BEGIN:VCALENDAR
VERSION:2.0
PRODID:-//Quiet Valley Living Historical Farm - ECPv6.15.20//NONSGML v1.0//EN
CALSCALE:GREGORIAN
METHOD:PUBLISH
X-WR-CALNAME:Quiet Valley Living Historical Farm
X-ORIGINAL-URL:https://quietvalley.org
X-WR-CALDESC:Events for Quiet Valley Living Historical Farm
REFRESH-INTERVAL;VALUE=DURATION:PT1H
X-Robots-Tag:noindex
X-PUBLISHED-TTL:PT1H
BEGIN:VTIMEZONE
TZID:America/New_York
BEGIN:DAYLIGHT
TZOFFSETFROM:-0500
TZOFFSETTO:-0400
TZNAME:EDT
DTSTART:20250309T070000
END:DAYLIGHT
BEGIN:STANDARD
TZOFFSETFROM:-0400
TZOFFSETTO:-0500
TZNAME:EST
DTSTART:20251102T060000
END:STANDARD
BEGIN:DAYLIGHT
TZOFFSETFROM:-0500
TZOFFSETTO:-0400
TZNAME:EDT
DTSTART:20260308T070000
END:DAYLIGHT
BEGIN:STANDARD
TZOFFSETFROM:-0400
TZOFFSETTO:-0500
TZNAME:EST
DTSTART:20261101T060000
END:STANDARD
BEGIN:DAYLIGHT
TZOFFSETFROM:-0500
TZOFFSETTO:-0400
TZNAME:EDT
DTSTART:20270314T070000
END:DAYLIGHT
BEGIN:STANDARD
TZOFFSETFROM:-0400
TZOFFSETTO:-0500
TZNAME:EST
DTSTART:20271107T060000
END:STANDARD
END:VTIMEZONE
BEGIN:VEVENT
DTSTART;TZID=America/New_York:20260516T100000
DTEND;TZID=America/New_York:20260516T160000
DTSTAMP:20260423T052827
CREATED:20210603T235109Z
LAST-MODIFIED:20260112T183109Z
UID:7242-1778925600-1778947200@quietvalley.org
SUMMARY:Farm Animal Frolic
DESCRIPTION:Frolic 2026 – Two Weekends of Family Fun!\nFrolic offers two weekends of fun for the entire family as Quiet Valley comes alive with baby animals! This is a unique opportunity for children and the young-at-heart to see a variety of animals up close. \n\n\nWatch baby chicks hatching from their eggs \n\n\nFeel the soft fur of baby bunnies \n\n\nMeet lambs with their woolly fleeces \n\n\nSee frisky baby goats \n\n\nCharm your way with adorable piglets \n\n\n\nDates & Hours\nSaturday & Sunday\, May 16–17Saturday & Sunday\, May 23–24Hours: 10:00 AM – 4:00 PM \n\nAdmission at the Gate\n\n\nAdults: $18 \n\n\nAges 3–12: $10 \n\n\nUnder 3: Free \n\nQV Members recieve free admission to Farm Animal Frolic\n\nAll tickets are sold by cash or card at the gate. No advanced tickets are available. \n\nOther Activities\n\n\nTraditional children’s games \n\n\nChildren’s show \n\n\nSpring plant sale \n\n\n“Timeless Treasures” vintage collectibles for sale \n\n\n\nProgram & Activities\nThe full Frolic program\, including special activities\, wagon rides\, and demonstrations\, will be available in April.[View the 2026 Frolic Program] – link available April 2026 \nWagon Rides: $5 per person (ages 3 and up) | 10:00 AM – 4:00 PM \n\nAll funds raised support the mission of the non-profit farm museum \nNo pets\, no smoking\, prices and schedules subject to change
URL:https://quietvalley.org/event/farm-animal-frolic/
LOCATION:Quiet Valley Living Historical Farm\, 347 Quiet Valley Rd\, Stroudsburg\, PA\, 18360\, United States
CATEGORIES:Farm Animal Frolic,Festivals
ATTACH;FMTTYPE=image/jpeg:https://quietvalley.org/wp-content/uploads/2021/06/Farm-Animal-Frolic-v.3.jpg
END:VEVENT
BEGIN:VEVENT
DTSTART;TZID=America/New_York:20260517T100000
DTEND;TZID=America/New_York:20260517T160000
DTSTAMP:20260423T052827
CREATED:20220321T140916Z
LAST-MODIFIED:20260112T183039Z
UID:15802-1779012000-1779033600@quietvalley.org
SUMMARY:Farm Animal Frolic
DESCRIPTION:Frolic 2026 – Two Weekends of Family Fun!\nFrolic offers two weekends of fun for the entire family as Quiet Valley comes alive with baby animals! This is a unique opportunity for children and the young-at-heart to see a variety of animals up close. \n\n\nWatch baby chicks hatching from their eggs \n\n\nFeel the soft fur of baby bunnies \n\n\nMeet lambs with their woolly fleeces \n\n\nSee frisky baby goats \n\n\nCharm your way with adorable piglets \n\n\n\nDates & Hours\nSaturday & Sunday\, May 16–17Saturday & Sunday\, May 23–24Hours: 10:00 AM – 4:00 PM \n\nAdmission at the Gate\n\n\nAdults: $18 \n\n\nAges 3–12: $10 \n\n\nUnder 3: Free \n\nQV Members receive free admssion to Farm Animal Frolic\n\nAll tickets are sold by cash or card at the gate. No advanced tickets are available. \n\nOther Activities\n\n\nTraditional children’s games \n\n\nChildren’s show \n\n\nSpring plant sale \n\n\n“Timeless Treasures” vintage collectibles for sale \n\n\n\nProgram & Activities\nThe full Frolic program\, including special activities\, wagon rides\, and demonstrations\, will be available in April.[View the 2026 Frolic Program] – link available April 2026 \nWagon Rides: $5 per person (ages 3 and up) | 10:00 AM – 4:00 PM \n\nAll funds raised support the mission of the non-profit farm museum \nNo pets\, no smoking\, prices and schedules subject to change
URL:https://quietvalley.org/event/farm-animal-frolic-day-2/
LOCATION:Quiet Valley Living Historical Farm\, 347 Quiet Valley Rd\, Stroudsburg\, PA\, 18360\, United States
CATEGORIES:Farm Animal Frolic,Festivals
ATTACH;FMTTYPE=image/jpeg:https://quietvalley.org/wp-content/uploads/2021/06/Farm-Animal-Frolic-Yellow-Duckling-in-Hands.jpg
END:VEVENT
BEGIN:VEVENT
DTSTART;TZID=America/New_York:20260620T100000
DTEND;TZID=America/New_York:20260620T170000
DTSTAMP:20260423T052827
CREATED:20210603T235647Z
LAST-MODIFIED:20260112T183623Z
UID:7258-1781949600-1781974800@quietvalley.org
SUMMARY:Summer Opening Day
DESCRIPTION:Opening Day 2026 – Celebrate Summer at Quiet Valley!\nKick off the summer season with us on Opening Day 2026! Explore the farm and enjoy a full day of hands-on experiences\, historic tours\, and seasonal activities for all ages. \n\n\nGarden Tours: Stroll through our gardens and learn about the historic plants\, herbs\, and flowers that have been grown at Quiet Valley for generations. \n\n\nHistoric Farm Tours: Step back in time as our guides show you the daily life on a 19th-century farm\, from the old kitchen to the barnyard. \n\n\nBake Oven Fresh Bread: Watch as our traditional bake oven comes to life and enjoy the irresistible aroma of freshly baked bread. Taste the results for yourself! \n\n\nFamily-Friendly Activities: There’s something for everyone\, from children’s hands-on demonstrations to interactive exhibits highlighting farm life and history. \n\n\nDate: Saturday\, June 20\, 2026 (Rain or Shine)Time: 10:00 AM – 5:00 PMAdmission: $15 Adults / $8 Children (Ages 3–12)Advanced tickets are not required \nExperience a day of learning\, history\, and fun—the perfect way to welcome summer at Quiet Valley Living Historical Farm!
URL:https://quietvalley.org/event/summer-opening/
LOCATION:Quiet Valley Living Historical Farm\, 347 Quiet Valley Rd\, Stroudsburg\, PA\, 18360\, United States
CATEGORIES:Tours
ATTACH;FMTTYPE=image/jpeg:https://quietvalley.org/wp-content/uploads/2021/06/Opening-Day.jpg
END:VEVENT
BEGIN:VEVENT
DTSTART;TZID=America/New_York:20260627T100000
DTEND;TZID=America/New_York:20260627T153000
DTSTAMP:20260423T052827
CREATED:20210603T235712Z
LAST-MODIFIED:20260129T165500Z
UID:7260-1782554400-1782574200@quietvalley.org
SUMMARY:Children’s Day
DESCRIPTION:A day of fun on the farm for the young folk. Various “chores”\, crafts\, and games will be taking place. There is no additional charge for Children’s Day activities. Join the 142nd PVI Co. G Civil War reenactment group for a look at the life of a soldier during the Civil War. \n\nJune 27\, 2026\nTime: 10am to 3:30pm\nAdmission : $15 adults / $8 children age 3 – 12
URL:https://quietvalley.org/event/childrens-day/
LOCATION:Quiet Valley Living Historical Farm\, 347 Quiet Valley Rd\, Stroudsburg\, PA\, 18360\, United States
CATEGORIES:Children’s Day,Special Events
ATTACH;FMTTYPE=image/jpeg:https://quietvalley.org/wp-content/uploads/2021/06/Childrens-Day-Thumbnail-v.5.jpg
END:VEVENT
BEGIN:VEVENT
DTSTART;TZID=America/New_York:20260711T090000
DTEND;TZID=America/New_York:20260711T090000
DTSTAMP:20260423T052827
CREATED:20210603T235728Z
LAST-MODIFIED:20260129T165623Z
UID:7262-1783760400-1783760400@quietvalley.org
SUMMARY:Rooster Run/Walk 5k
DESCRIPTION:Tour the Quiet Valley Living Historical Farm property over hill and dale past the farm ponds\, pastures\, apple orchards\, historical buildings and over a covered bridge. Course has varying surfaces including grass\, dirt\, gravel and paved roads. \n\nDate: July 11\, 2026\nTime: 9am\nEntry Fee: $30 Online / $40 Event Day\n\n \nRace day registration and bib pickup will begin at 7:30 AM at the Quiet Valley Living Historical Farm\, 347 Quiet Valley Rd\, Stroudsburg\, PA. Registration closes 15 minutes before the event starts\, please be considerate of others and register on time.
URL:https://quietvalley.org/event/rooster-run-5k/
LOCATION:Quiet Valley Living Historical Farm\, 347 Quiet Valley Rd\, Stroudsburg\, PA\, 18360\, United States
CATEGORIES:Rooster Run 5k,Special Events
ATTACH;FMTTYPE=image/jpeg:https://quietvalley.org/wp-content/uploads/2021/06/Rooster-Run-5k-Race-Running-Rooster-Mascot.jpg
END:VEVENT
BEGIN:VEVENT
DTSTART;TZID=America/New_York:20260718T100000
DTEND;TZID=America/New_York:20260718T170000
DTSTAMP:20260423T052827
CREATED:20210603T235608Z
LAST-MODIFIED:20260129T165653Z
UID:7254-1784368800-1784394000@quietvalley.org
SUMMARY:Music in the Valley
DESCRIPTION:Music in the Valley features various groups performing traditional music at different locations on the farm. This is a wonderful opportunity to speak to the musicians and learn about folk instruments and the traditional music of the 19th century. Enjoy this special day of wonderful\, old-fashion entertainment. The event will be held under tents\, rain or shine. The day ends with a jam session around 3:30pm. \n\nDate: July 18\, 2026 (Rain or Shine)\nTime: 10am to 4p
URL:https://quietvalley.org/event/music-in-the-valley/
LOCATION:Quiet Valley Living Historical Farm\, 347 Quiet Valley Rd\, Stroudsburg\, PA\, 18360\, United States
CATEGORIES:Music in the Valley,Special Events
ATTACH;FMTTYPE=image/jpeg:https://quietvalley.org/wp-content/uploads/2021/06/Music-in-the-Valley-Thumbnail-v.5.jpg
END:VEVENT
BEGIN:VEVENT
DTSTART;TZID=America/New_York:20260808T100000
DTEND;TZID=America/New_York:20260808T170000
DTSTAMP:20260423T052827
CREATED:20210603T235552Z
LAST-MODIFIED:20260129T165737Z
UID:7252-1786183200-1786208400@quietvalley.org
SUMMARY:Heritage Craft Day
DESCRIPTION:Join Quiet Valley and the living historians of the 142nd Regiment of Pennsylvania Volunteers as we host a combination Heritage Craft and Civil War Weekend. \nHeritage Craft Day highlights some of the traditional trade skills and heritage crafts of our forefathers. Folks will be able to see the demonstrators at work. Learn about the techniques involved as well as some of the history behind them. There will be demonstrations such as basket making\, bobbin lace\, tatting\, weaving\, quilling\, rope making and pottery. Come learn about some of the many historic folk crafts practiced by our ancestors. You may be a future demonstrator “in the making”! \n\nDate: Saturday August 8\, 2026 (Rain or Shine)\nTime: 10am to 5:00\nAdmission: $15 adults / $8 children age 3 – 12
URL:https://quietvalley.org/event/heritage-craft-day/
LOCATION:Quiet Valley Living Historical Farm\, 347 Quiet Valley Rd\, Stroudsburg\, PA\, 18360\, United States
CATEGORIES:Heritage Craft Day,Special Events
ATTACH;FMTTYPE=image/jpeg:https://quietvalley.org/wp-content/uploads/2021/06/Heritage-Craft-Day-Woman-spinning-thread-yarn.jpg
END:VEVENT
BEGIN:VEVENT
DTSTART;TZID=America/New_York:20260822T100000
DTEND;TZID=America/New_York:20260822T170000
DTSTAMP:20260423T052827
CREATED:20210603T235129Z
LAST-MODIFIED:20260129T170033Z
UID:7244-1787392800-1787418000@quietvalley.org
SUMMARY:Pocono State Craft Festival
DESCRIPTION:Two great days to shop for high quality art and hand crafted items sure to become family heirlooms. Enjoy demonstrations\, live music\, artisanal bread sale; the historic buildings will be open for viewing with interpreters sharing information about the farm museum’s original settlers. \nThe Pocono State Craft Festival supports the activities of two non-profit organizations: Quiet Valley Living Historical Farm and the Pocono chapter of the PA Guild of Craftsmen. These organizations provide year round cultural\, educational and community events for the region and beyond. \nhttps://poconoarts.org/event/pocono-state-craft-festival/ \nhttp://www.poconocrafts.com/ \n\nAdmission: Adults $7 – get a $1 off discount coupon when you join our Mailing List.\nKids 12 and under Free!\nFestival hours are 10am to 5pm Saturday and Sunday August 22 and 23\, 2026\nParking is free.\nSince this is a farm it is not fully ADA compliant\, however folks with walkers or wheel chairs can enjoy the festival.  Accessible parking is close to the gate.\nThe farm will be closed for tours on August 22 for vendor set-up.\n\nQuiet Valley is a working farm\, smoking and pets (except service dogs) are not permitted!
URL:https://quietvalley.org/event/pocono-state-craft-festival/
LOCATION:Quiet Valley Living Historical Farm\, 347 Quiet Valley Rd\, Stroudsburg\, PA\, 18360\, United States
CATEGORIES:Festivals,Pocono State Craft Festival
ATTACH;FMTTYPE=image/jpeg:https://quietvalley.org/wp-content/uploads/2021/06/Pocono-State-Craft-Festival-Painting-Ceramic-Mug.jpg
END:VEVENT
BEGIN:VEVENT
DTSTART;TZID=America/New_York:20261010T100000
DTEND;TZID=America/New_York:20261010T170000
DTSTAMP:20260423T052827
CREATED:20210603T235148Z
LAST-MODIFIED:20260129T170808Z
UID:7246-1791626400-1791651600@quietvalley.org
SUMMARY:Harvest Festival
DESCRIPTION:52nd Annual Harvest Festival 2026 \nOur largest festival!!! Visitors will see demonstrations of many different heritage crafts and trades\, as well as traditional methods of cooking and processing various food items. Experience activities common in the 1800s\, such as candle dipping\, scrapple making\, tanning\, leather work\, spinning\, weaving and more! Other highlights include one-room school presentations\, Civil War encampment\, folk entertainment\, refreshments\, quilt raffle\, wagon rides\, and children activities! \n\nAdmission: $18 Adults / $10 Ages 3-12\nDate: Saturday Oct 10th / Sunday October 11th\nTime: 10:00am – 5:00pm both days\nNo Smoking\nNo Pets\nPrices and schedules subject to change\n\n+ Visit our Harvest Festival Volunteer Page if you are interested in volunteering. \n(All funds raised support the mission of the non-profit farm museum)
URL:https://quietvalley.org/event/harvest-festival-1/
LOCATION:Quiet Valley Living Historical Farm\, 347 Quiet Valley Rd\, Stroudsburg\, PA\, 18360\, United States
CATEGORIES:Festivals,Harvest Festival
ATTACH;FMTTYPE=image/jpeg:https://quietvalley.org/wp-content/uploads/2021/06/Harvest-Festival-Girls-Cooking-on-Outdoors.jpg
END:VEVENT
BEGIN:VEVENT
DTSTART;TZID=America/New_York:20261023T180000
DTEND;TZID=America/New_York:20261024T203000
DTSTAMP:20260423T052827
CREATED:20210603T235210Z
LAST-MODIFIED:20260129T183140Z
UID:7248-1792778400-1792873800@quietvalley.org
SUMMARY:Spooky Days on the Farm
DESCRIPTION:Activities turn towards the things that go bump in the night around Halloween! \nOn Friday and Saturday nights put your detective skills to the test by helping solve a murder mystery! A guide will take you around the farm as you meet the suspects\, gather clues\, and more! This program takes approximately 1 1/2 to 2 hours and tours are continuous. The last tour begins at 8:30 pm from the log cabin gift shop. Get into the haunted Halloween spirit with something more unique than just another haunted house. \nThis program is designed by a forensic specialist and includes discussions and depictions of death and murder. The farm is extremely dark at night and we encourage visitors to bring flashlights. Actors are not permitted to touch visitors. Not suitable for audiences under age 7. \n\nDate: Friday Oct 23rd / Saturday Oct 24th\nTime: Friday- 6pm to 8:30pm\, Saturday- 5pm-8:3opm\nAdmission: $18 Adults\, $10 Ages 3-12\n\nTickets will go on sale on September 1st.
URL:https://quietvalley.org/event/spooky-days-on-the-farm/
LOCATION:Quiet Valley Living Historical Farm\, 347 Quiet Valley Rd\, Stroudsburg\, PA\, 18360\, United States
CATEGORIES:Festivals,Spooky Days on the Farm
ATTACH;FMTTYPE=image/jpeg:https://quietvalley.org/wp-content/uploads/2021/06/Spooky-Days-on-the-Farm-Carving-a-Jackolantern-2.jpg
END:VEVENT
BEGIN:VEVENT
DTSTART;TZID=America/New_York:20261205T143000
DTEND;TZID=America/New_York:20261206T190000
DTSTAMP:20260423T052827
CREATED:20210603T235235Z
LAST-MODIFIED:20260129T183812Z
UID:7250-1796481000-1796583600@quietvalley.org
SUMMARY:Old Time Christmas (First Weekend)
DESCRIPTION:36th Annual Old Time Christmas 2026 \n\nDates: December 5th & 6th\nAdvanced Admission: $16 Adults\, $8 ages 3-12\nAt the Gate Admission: $18 Adults\, $10 Ages 3-12\nPublic Tours: Every 15 minutes from 1:30pm to 6:00pm (last tour starts at 6:00pm)\nGroups of 20 or more\, please contact the office for tour availability\n\nTICKETS WILL GO ON SALE NOVEMBER 1\, 2026 \n \nGather by the bonfire with friends and family and be transported to a simpler time when the farm family crafted homemade gifts from the heart to adorn the Christmas tree. Feel the tranquility of the live Nativity where the Baby Jesus sleeps in the Virgin Mary’s arms\, attended by man and beast. Listen to stories in front of the fireplace in the Grandaddy Cabin. \nMeet the mythical Belsnickel by hearth-light in the Cellar Kitchen. He’s come before St. Nicholas to warn the naughty and reward the nice. Revel in the warmth of the potbelly stove alight in the one-room schoolhouse and join the sing-along of traditional carols. Marvel at the miniature village scene—the traditional Christmas Putz—in the Victorian parlor. \nStroll through the magical Christmas Tree Forest sponsored by Quiet Valley’s Members’ families and local businesses. Chime in to reward the most deserving decorative design. \nEnjoy complimentary hot chocolate or warm cider with homemade cookies to round-out this hour-and-half long journey through the customs of this 19th Century Pennsylvania German farm. Complete one’s Christmas shopping— or get started on it— in Quiet Valley’s Holiday Gift Shop\, where unique\, handcrafted gifts await\, among an array of treasures sure to delight the young and old alike. \nSavor the stories\, bask in the past\, and drink in all the simple pleasures of an Old Time Christmas at Quiet Valley.
URL:https://quietvalley.org/event/old-time-christmas/
LOCATION:Quiet Valley Living Historical Farm\, 347 Quiet Valley Rd\, Stroudsburg\, PA\, 18360\, United States
CATEGORIES:Festivals,Old Time Christmas
ATTACH;FMTTYPE=image/jpeg:https://quietvalley.org/wp-content/uploads/2021/06/Nativity-Scene-v.3.jpg
END:VEVENT
BEGIN:VEVENT
DTSTART;TZID=America/New_York:20261212T143000
DTEND;TZID=America/New_York:20261213T190000
DTSTAMP:20260423T052827
CREATED:20211116T212432Z
LAST-MODIFIED:20260129T183803Z
UID:14962-1797085800-1797188400@quietvalley.org
SUMMARY:Old Time Christmas (Second Weekend)
DESCRIPTION:36th Annual Old Time Christmas 2026 \n\nDates: December 12th & 13th\nAdvanced Admission: $16 Adults\, $8 ages 3-12\nAt the Gate Admission: $18 Adults\, $10 Ages 3-12\nPublic Tours: Every 15 minutes from 1:30pm to 6:00pm (last tour starts at 7:00pm)\nGroups of 20 or more please contact the office for tour availability\n\nTICKETS WILL GO ON SALE NOVEMBER 1\, 2026 \n \nGather by the bonfire with friends and family and be transported to a simpler time when the farm family crafted homemade gifts from the heart to adorn the Christmas tree. Feel the tranquility of the live Nativity where the Baby Jesus sleeps in the Virgin Mary’s arms\, attended by man and beast. Listen to stories in front of the fireplace in the Grandaddy Cabin. \nMeet the mythical Belsnickel by hearth-light in the Cellar Kitchen. He’s come before St. Nicholas to warn the naughty and reward the nice. Revel in the warmth of the potbelly stove alight in the one-room schoolhouse and join the sing-along of traditional carols. Marvel at the miniature village scene—the traditional Christmas Putz—in the Victorian parlor. \nStroll through the magical Christmas Tree Forest sponsored by Quiet Valley’s Members’ families and local businesses. Chime in to reward the most deserving decorative design. \nEnjoy complimentary hot chocolate or warm cider with homemade cookies to round-out this hour-and-half long journey through the customs of this 19th Century Pennsylvania German farm. Complete one’s Christmas shopping— or get started on it— in Quiet Valley’s Holiday Gift Shop\, where unique\, handcrafted gifts await\, among an array of treasures sure to delight the young and old alike. \nSavor the stories\, bask in the past\, and drink in all the simple pleasures of an Old Time Christmas at Quiet Valley.
URL:https://quietvalley.org/event/old-time-christmas-second-weekend/
LOCATION:Quiet Valley Living Historical Farm\, 347 Quiet Valley Rd\, Stroudsburg\, PA\, 18360\, United States
CATEGORIES:Festivals,Old Time Christmas
ATTACH;FMTTYPE=image/jpeg:https://quietvalley.org/wp-content/uploads/2021/06/Nativity-Scene-v.3.jpg
END:VEVENT
END:VCALENDAR