BEGIN:VCALENDAR
VERSION:2.0
PRODID:-//Quiet Valley Living Historical Farm - ECPv6.15.20//NONSGML v1.0//EN
CALSCALE:GREGORIAN
METHOD:PUBLISH
X-ORIGINAL-URL:https://quietvalley.org
X-WR-CALDESC:Events for Quiet Valley Living Historical Farm
REFRESH-INTERVAL;VALUE=DURATION:PT1H
X-Robots-Tag:noindex
X-PUBLISHED-TTL:PT1H
BEGIN:VTIMEZONE
TZID:America/New_York
BEGIN:DAYLIGHT
TZOFFSETFROM:-0500
TZOFFSETTO:-0400
TZNAME:EDT
DTSTART:20240310T070000
END:DAYLIGHT
BEGIN:STANDARD
TZOFFSETFROM:-0400
TZOFFSETTO:-0500
TZNAME:EST
DTSTART:20241103T060000
END:STANDARD
BEGIN:DAYLIGHT
TZOFFSETFROM:-0500
TZOFFSETTO:-0400
TZNAME:EDT
DTSTART:20250309T070000
END:DAYLIGHT
BEGIN:STANDARD
TZOFFSETFROM:-0400
TZOFFSETTO:-0500
TZNAME:EST
DTSTART:20251102T060000
END:STANDARD
BEGIN:DAYLIGHT
TZOFFSETFROM:-0500
TZOFFSETTO:-0400
TZNAME:EDT
DTSTART:20260308T070000
END:DAYLIGHT
BEGIN:STANDARD
TZOFFSETFROM:-0400
TZOFFSETTO:-0500
TZNAME:EST
DTSTART:20261101T060000
END:STANDARD
END:VTIMEZONE
BEGIN:VEVENT
DTSTART;TZID=America/New_York:20251020T110000
DTEND;TZID=America/New_York:20251020T150000
DTSTAMP:20260425T154110
CREATED:20251003T162549Z
LAST-MODIFIED:20251003T162826Z
UID:18706-1760958000-1760972400@quietvalley.org
SUMMARY:Autumn on the Farm: Homeschool Field Trip
DESCRIPTION:Homeschool families are invited to Autumn on the Farm\, a special day featuring Quiet Valley’s Fall School Tour program. Step back in time and experience 19th-century farm life through hands-on activities and historic demonstrations designed just for homeschool students and their families. \nDuring the field trip\, participants will tour our historic farm buildings\, visit with farm animals\, attend a mini-lesson in the one-room schoolhouse\, and watch a simple machines demonstration. \nDetails & Pricing: \n\n\n$8 per student (ages 5 and up) \n\n\n$10 per adult \n\n\nEveryone attending must have a ticket \n\n\nProgram runs 11:00 AM – 3:00 PM (pack a lunch to enjoy at our picnic pavilion) \n\n\nAdvance registration required. A limited number of tickets are available.
URL:https://quietvalley.org/event/autumn-on-the-farm-homeschool-field-trip/
LOCATION:Quiet Valley Living Historical Farm\, 347 Quiet Valley Rd\, Stroudsburg\, PA\, 18360\, United States
CATEGORIES:Group Tours,Learning,One Day Special Program,Tours
ATTACH;FMTTYPE=image/jpeg:https://quietvalley.org/wp-content/uploads/2025/03/IMG_4652-scaled.jpg
END:VEVENT
END:VCALENDAR