BEGIN:VCALENDAR
VERSION:2.0
PRODID:-//Quiet Valley Living Historical Farm - ECPv6.15.20//NONSGML v1.0//EN
CALSCALE:GREGORIAN
METHOD:PUBLISH
X-WR-CALNAME:Quiet Valley Living Historical Farm
X-ORIGINAL-URL:https://quietvalley.org
X-WR-CALDESC:Events for Quiet Valley Living Historical Farm
REFRESH-INTERVAL;VALUE=DURATION:PT1H
X-Robots-Tag:noindex
X-PUBLISHED-TTL:PT1H
BEGIN:VTIMEZONE
TZID:America/New_York
BEGIN:DAYLIGHT
TZOFFSETFROM:-0500
TZOFFSETTO:-0400
TZNAME:EDT
DTSTART:20220313T070000
END:DAYLIGHT
BEGIN:STANDARD
TZOFFSETFROM:-0400
TZOFFSETTO:-0500
TZNAME:EST
DTSTART:20221106T060000
END:STANDARD
BEGIN:DAYLIGHT
TZOFFSETFROM:-0500
TZOFFSETTO:-0400
TZNAME:EDT
DTSTART:20230312T070000
END:DAYLIGHT
BEGIN:STANDARD
TZOFFSETFROM:-0400
TZOFFSETTO:-0500
TZNAME:EST
DTSTART:20231105T060000
END:STANDARD
BEGIN:DAYLIGHT
TZOFFSETFROM:-0500
TZOFFSETTO:-0400
TZNAME:EDT
DTSTART:20240310T070000
END:DAYLIGHT
BEGIN:STANDARD
TZOFFSETFROM:-0400
TZOFFSETTO:-0500
TZNAME:EST
DTSTART:20241103T060000
END:STANDARD
END:VTIMEZONE
BEGIN:VEVENT
DTSTART;TZID=America/New_York:20230816T100000
DTEND;TZID=America/New_York:20230816T153000
DTSTAMP:20260423T071628
CREATED:20230815T143726Z
LAST-MODIFIED:20230815T143726Z
UID:17353-1692180000-1692199800@quietvalley.org
SUMMARY:Soap Making
DESCRIPTION:Learn about traditional soap making during our demo! Join us to see how we get the lye and use lard to make our soap for the year. \n\nDate: Wednesday\, August 16th\nTime: 10:00 am – 3:30 pm\nFee: Included with tour admission
URL:https://quietvalley.org/event/soap-making/
LOCATION:PA
CATEGORIES:Special Events,Summer Highlights Demos
ATTACH;FMTTYPE=image/jpeg:https://quietvalley.org/wp-content/uploads/2022/01/Soap-Making-Workshop.jpg
END:VEVENT
BEGIN:VEVENT
DTSTART;TZID=America/New_York:20230811T100000
DTEND;TZID=America/New_York:20230811T153000
DTSTAMP:20260423T071628
CREATED:20210708T001247Z
LAST-MODIFIED:20230511T200911Z
UID:9883-1691748000-1691767800@quietvalley.org
SUMMARY:Pottery Day
DESCRIPTION:This craft has been practiced for thousands of years and was a way to provide families with basic plates\, cups and other types of vessels. Today the same articles are made as well as many other functional and artistic items. \n\nInstructor: Joan Glusiec\nDate: Friday August 11th\nTime: 10:00am – 3:30pm\nFee: Included with tour admission
URL:https://quietvalley.org/event/pottery-3/
LOCATION:Quiet Valley Living Historical Farm\, 347 Quiet Valley Rd\, Stroudsburg\, PA\, 18360\, United States
CATEGORIES:Special Events,Summer Highlights Demos
ATTACH;FMTTYPE=image/jpeg:https://quietvalley.org/wp-content/uploads/2021/07/potter-wheel-spinning-opening.jpg
END:VEVENT
BEGIN:VEVENT
DTSTART;TZID=America/New_York:20230727T100000
DTEND;TZID=America/New_York:20230727T153000
DTSTAMP:20260423T071628
CREATED:20210623T040813Z
LAST-MODIFIED:20230609T191744Z
UID:8238-1690452000-1690471800@quietvalley.org
SUMMARY:German Folded Paper Star
DESCRIPTION:Learn about a traditional paper craft\, the German Folded Paper Star! Also known as a Froebel Star\, this simple craft would be made for decorations at Christmas time. \n\nDate: Thursday July 27th\nTime: 10:00am – 3:30pm\nFee: Included with tour admission\nInstructor: Karin Wood
URL:https://quietvalley.org/event/paper-crafts/
LOCATION:Quiet Valley Living Historical Farm\, 347 Quiet Valley Rd\, Stroudsburg\, PA\, 18360\, United States
CATEGORIES:Special Events,Summer Highlights Demos
ATTACH;FMTTYPE=image/jpeg:https://quietvalley.org/wp-content/uploads/2021/06/Paper-Crafts-Moravian-Star.jpg
END:VEVENT
BEGIN:VEVENT
DTSTART;TZID=America/New_York:20230714T100000
DTEND;TZID=America/New_York:20230714T153000
DTSTAMP:20260423T071628
CREATED:20210707T220001Z
LAST-MODIFIED:20230511T201209Z
UID:9864-1689328800-1689348600@quietvalley.org
SUMMARY:Pottery Day
DESCRIPTION:This craft has been practiced for thousands of years and was a way to provide families with basic plates\, cups and other types of vessels. Today the same articles are made as well as many other functional and artistic items. \n\nInstructor: Joan Glusiec\nDate: Friday July 14th\nTime: 10:00am – 3:30pm\nFee: Included with tour admission
URL:https://quietvalley.org/event/pottery/
LOCATION:Quiet Valley Living Historical Farm\, 347 Quiet Valley Rd\, Stroudsburg\, PA\, 18360\, United States
CATEGORIES:Special Events,Summer Highlights Demos
ATTACH;FMTTYPE=image/jpeg:https://quietvalley.org/wp-content/uploads/2021/07/potter-wheel-spinning-opening.jpg
END:VEVENT
BEGIN:VEVENT
DTSTART;TZID=America/New_York:20230629T100000
DTEND;TZID=America/New_York:20230629T153000
DTSTAMP:20260423T071628
CREATED:20210623T041048Z
LAST-MODIFIED:20230627T211403Z
UID:8241-1688032800-1688052600@quietvalley.org
SUMMARY:Wood Carving Highlight
DESCRIPTION:Come learn about the traditional heritage skill of wood carving. \n\nDate: Thursday\, June 19th\nTime: 10:00 am – 3:30 pm\nFee: Included with tour admission
URL:https://quietvalley.org/event/honey-bee-highlight/
LOCATION:Quiet Valley Living Historical Farm\, 347 Quiet Valley Rd\, Stroudsburg\, PA\, 18360\, United States
CATEGORIES:Special Events,Summer Highlights Demos
ATTACH;FMTTYPE=image/png:https://quietvalley.org/wp-content/uploads/2021/06/Untitled-design9.png
END:VEVENT
END:VCALENDAR