BEGIN:VCALENDAR
VERSION:2.0
PRODID:-//Quiet Valley Living Historical Farm - ECPv6.15.20//NONSGML v1.0//EN
CALSCALE:GREGORIAN
METHOD:PUBLISH
X-WR-CALNAME:Quiet Valley Living Historical Farm
X-ORIGINAL-URL:https://quietvalley.org
X-WR-CALDESC:Events for Quiet Valley Living Historical Farm
REFRESH-INTERVAL;VALUE=DURATION:PT1H
X-Robots-Tag:noindex
X-PUBLISHED-TTL:PT1H
BEGIN:VTIMEZONE
TZID:America/New_York
BEGIN:DAYLIGHT
TZOFFSETFROM:-0500
TZOFFSETTO:-0400
TZNAME:EDT
DTSTART:20250309T070000
END:DAYLIGHT
BEGIN:STANDARD
TZOFFSETFROM:-0400
TZOFFSETTO:-0500
TZNAME:EST
DTSTART:20251102T060000
END:STANDARD
BEGIN:DAYLIGHT
TZOFFSETFROM:-0500
TZOFFSETTO:-0400
TZNAME:EDT
DTSTART:20260308T070000
END:DAYLIGHT
BEGIN:STANDARD
TZOFFSETFROM:-0400
TZOFFSETTO:-0500
TZNAME:EST
DTSTART:20261101T060000
END:STANDARD
BEGIN:DAYLIGHT
TZOFFSETFROM:-0500
TZOFFSETTO:-0400
TZNAME:EDT
DTSTART:20270314T070000
END:DAYLIGHT
BEGIN:STANDARD
TZOFFSETFROM:-0400
TZOFFSETTO:-0500
TZNAME:EST
DTSTART:20271107T060000
END:STANDARD
END:VTIMEZONE
BEGIN:VEVENT
DTSTART;TZID=America/New_York:20260503T133000
DTEND;TZID=America/New_York:20260503T153000
DTSTAMP:20260423T071617
CREATED:20210914T034136Z
LAST-MODIFIED:20260411T170918Z
UID:14818-1777815000-1777822200@quietvalley.org
SUMMARY:Annual Membership Meeting and Potluck--Members Only Event
DESCRIPTION:It is that time of year again! We will hold our Annual Membership Meeting and Potluck.  It will be held on May 3\, 2026\, beginning at 1:30 PM.  There will also be great food\, a silent auction\, presentations\, and a chance to learn about the goings on at the Farm. Ham and drinks provided. Please bring an appetizer\, side dish or dessert to share. \nMembers can pre-order their tickets or call the farm to reserve their spot. The modest cover charge is $10 for adults\, $5 for children aged 5 to 12\, and no charge for younger children. The newest members are welcome!! \nTickets will go on sale in March.
URL:https://quietvalley.org/event/members-only-events/
LOCATION:Quiet Valley Living Historical Farm\, 347 Quiet Valley Rd\, Stroudsburg\, PA\, 18360\, United States
CATEGORIES:Members Only Events,Special Events
ATTACH;FMTTYPE=image/jpeg:https://quietvalley.org/wp-content/uploads/2021/09/Member-Summer-Picnic-Events-v.1.jpg
END:VEVENT
END:VCALENDAR