BEGIN:VCALENDAR
VERSION:2.0
PRODID:-//Quiet Valley Living Historical Farm - ECPv6.15.20//NONSGML v1.0//EN
CALSCALE:GREGORIAN
METHOD:PUBLISH
X-WR-CALNAME:Quiet Valley Living Historical Farm
X-ORIGINAL-URL:https://quietvalley.org
X-WR-CALDESC:Events for Quiet Valley Living Historical Farm
REFRESH-INTERVAL;VALUE=DURATION:PT1H
X-Robots-Tag:noindex
X-PUBLISHED-TTL:PT1H
BEGIN:VTIMEZONE
TZID:America/New_York
BEGIN:DAYLIGHT
TZOFFSETFROM:-0500
TZOFFSETTO:-0400
TZNAME:EDT
DTSTART:20200308T070000
END:DAYLIGHT
BEGIN:STANDARD
TZOFFSETFROM:-0400
TZOFFSETTO:-0500
TZNAME:EST
DTSTART:20201101T060000
END:STANDARD
BEGIN:DAYLIGHT
TZOFFSETFROM:-0500
TZOFFSETTO:-0400
TZNAME:EDT
DTSTART:20210314T070000
END:DAYLIGHT
BEGIN:STANDARD
TZOFFSETFROM:-0400
TZOFFSETTO:-0500
TZNAME:EST
DTSTART:20211107T060000
END:STANDARD
BEGIN:DAYLIGHT
TZOFFSETFROM:-0500
TZOFFSETTO:-0400
TZNAME:EDT
DTSTART:20220313T070000
END:DAYLIGHT
BEGIN:STANDARD
TZOFFSETFROM:-0400
TZOFFSETTO:-0500
TZNAME:EST
DTSTART:20221106T060000
END:STANDARD
BEGIN:DAYLIGHT
TZOFFSETFROM:-0500
TZOFFSETTO:-0400
TZNAME:EDT
DTSTART:20230312T070000
END:DAYLIGHT
BEGIN:STANDARD
TZOFFSETFROM:-0400
TZOFFSETTO:-0500
TZNAME:EST
DTSTART:20231105T060000
END:STANDARD
END:VTIMEZONE
BEGIN:VEVENT
DTSTART;TZID=America/New_York:20220204T093000
DTEND;TZID=America/New_York:20220204T120000
DTSTAMP:20260423T213308
CREATED:20220106T175813Z
LAST-MODIFIED:20220110T161750Z
UID:15209-1643967000-1643976000@quietvalley.org
SUMMARY:Sustainability\, Conservation\, and Ecosystems (Ages 11-15)
DESCRIPTION:What is sustainability and how does it apply to our lives? Participants will work together to understand conservation and resource preservation\, then visit the farm to learn about ecosystems and sustainability. Each student will make their own ecosystem to observe and care for at home! \n\nAges: 11 – 15 yrs.\nCost: $20.00 per class\nWhen: 9:30a – 12:00p\n\nRegistration for this class can be completed online here: https://quiet-valley.square.site/
URL:https://quietvalley.org/event/sustainability-conservation-and-ecosystems-ages-11-15/
LOCATION:Quiet Valley Living Historical Farm\, 347 Quiet Valley Rd\, Stroudsburg\, PA\, 18360\, United States
CATEGORIES:Homeschool Heritage Program,Learning,Workshops
ATTACH;FMTTYPE=image/jpeg:https://quietvalley.org/wp-content/uploads/2022/01/Ecosystem-Homeschool-Heritage.jpg
END:VEVENT
BEGIN:VEVENT
DTSTART;TZID=America/New_York:20211217T093000
DTEND;TZID=America/New_York:20211217T120000
DTSTAMP:20260423T213308
CREATED:20211108T223747Z
LAST-MODIFIED:20211116T175235Z
UID:14894-1639733400-1639742400@quietvalley.org
SUMMARY:Lighting (Ages 11-15)
DESCRIPTION:Learn about historic lighting and make your own lamp! \n\nAges: 11 – 15 yrs.\nCost: $15.00 per class\nWhen: 9:30a – 12:00p\n\nRegistration for this class can be completed online here: https://quiet-valley.square.site/
URL:https://quietvalley.org/event/christmas-tree-lighting-ages-11-15/
LOCATION:Quiet Valley Living Historical Farm\, 347 Quiet Valley Rd\, Stroudsburg\, PA\, 18360\, United States
CATEGORIES:Homeschool Heritage Program,Learning,Workshops
ATTACH;FMTTYPE=image/jpeg:https://quietvalley.org/wp-content/uploads/2021/11/Workshop-Homeschool-Heritage-Lighting-900-x-506.jpg
END:VEVENT
BEGIN:VEVENT
DTSTART;TZID=America/New_York:20211119T093000
DTEND;TZID=America/New_York:20211119T120000
DTSTAMP:20260423T213308
CREATED:20211108T195246Z
LAST-MODIFIED:20211108T195246Z
UID:14887-1637314200-1637323200@quietvalley.org
SUMMARY:Presentation Penn State Extension Watershed Steward (Ages 11-15)
DESCRIPTION:Participants ages 11-15 will receive a special presentation from Penn State Extension Watershed Steward. \n\nDate: November 19th 2021\nTime: 9:30 am – 12:00 pm\nPrice: $15\n\nRegistration for this class can be completed online here: https://quiet-valley.square.site/
URL:https://quietvalley.org/event/presentation-penn-state-extension-watershed-steward-ages-11-15/
LOCATION:Quiet Valley Living Historical Farm\, 347 Quiet Valley Rd\, Stroudsburg\, PA\, 18360\, United States
CATEGORIES:Homeschool Heritage Program,Learning,Workshops
ATTACH;FMTTYPE=image/jpeg:https://quietvalley.org/wp-content/uploads/2021/11/Workshop-Penn-Watershed-900-x-506.jpg
END:VEVENT
BEGIN:VEVENT
DTSTART;TZID=America/New_York:20211119T093000
DTEND;TZID=America/New_York:20211119T120000
DTSTAMP:20260423T213308
CREATED:20211108T194043Z
LAST-MODIFIED:20211108T194043Z
UID:14884-1637314200-1637323200@quietvalley.org
SUMMARY:Intro to Weaving (Ages 7-10)
DESCRIPTION:Participants will receive a basic introduction to weaving\, learn about the importance of weaving for the 19th-century family\, and work on their own weaving project. \n\nDate: November 19th\nTime: 9:30 am – 12:00 pm\nAges: 7-10\nInstructor: Sue Oiler\nPrice: $15\n\nRegistration for this class can be completed online here: https://quiet-valley.square.site/
URL:https://quietvalley.org/event/intro-to-weaving-ages-7-10/
LOCATION:Quiet Valley Living Historical Farm\, 347 Quiet Valley Rd\, Stroudsburg\, PA\, 18360\, United States
CATEGORIES:Homeschool Heritage Program,Learning,Workshops
ATTACH;FMTTYPE=image/jpeg:https://quietvalley.org/wp-content/uploads/2021/11/Workshop-Intro-to-Weaving-900-x-506.jpg
END:VEVENT
BEGIN:VEVENT
DTSTART;TZID=America/New_York:20210924T093000
DTEND;TZID=America/New_York:20210924T120000
DTSTAMP:20260423T213308
CREATED:20210906T200023Z
LAST-MODIFIED:20210907T211946Z
UID:14707-1632475800-1632484800@quietvalley.org
SUMMARY:Changing Seasons & Changing Leaves (Ages 7-10)
DESCRIPTION:Instructor: TBA \nLearn about the changing seasons and see what autumn brings to the farm. Go on a nature walk to look for signs of fall and create a leaf craft to take home. \n\nAges: 7 to 10 yrs.\nCost: $15.00 per class\nWhen: 9:30a – 12:00p\n\nHow to pre-register \n\nOnline Workshop Registration – add child name & age to order note\nPhone: 570-992-6161 (ext. 13)\nEmail: programs@quietvalley.org
URL:https://quietvalley.org/event/changing-seasons-changing-leaves-ages-7-10/
LOCATION:Quiet Valley Living Historical Farm\, 347 Quiet Valley Rd\, Stroudsburg\, PA\, 18360\, United States
CATEGORIES:Homeschool Heritage Program,Learning,Workshops
ATTACH;FMTTYPE=image/jpeg:https://quietvalley.org/wp-content/uploads/2021/09/Changing-Seasons-Changing-Leaves-Workshop-v.1.jpg
END:VEVENT
END:VCALENDAR