BEGIN:VCALENDAR
VERSION:2.0
PRODID:-//Quiet Valley Living Historical Farm - ECPv6.15.20//NONSGML v1.0//EN
CALSCALE:GREGORIAN
METHOD:PUBLISH
X-WR-CALNAME:Quiet Valley Living Historical Farm
X-ORIGINAL-URL:https://quietvalley.org
X-WR-CALDESC:Events for Quiet Valley Living Historical Farm
REFRESH-INTERVAL;VALUE=DURATION:PT1H
X-Robots-Tag:noindex
X-PUBLISHED-TTL:PT1H
BEGIN:VTIMEZONE
TZID:America/New_York
BEGIN:DAYLIGHT
TZOFFSETFROM:-0500
TZOFFSETTO:-0400
TZNAME:EDT
DTSTART:20200308T070000
END:DAYLIGHT
BEGIN:STANDARD
TZOFFSETFROM:-0400
TZOFFSETTO:-0500
TZNAME:EST
DTSTART:20201101T060000
END:STANDARD
BEGIN:DAYLIGHT
TZOFFSETFROM:-0500
TZOFFSETTO:-0400
TZNAME:EDT
DTSTART:20210314T070000
END:DAYLIGHT
BEGIN:STANDARD
TZOFFSETFROM:-0400
TZOFFSETTO:-0500
TZNAME:EST
DTSTART:20211107T060000
END:STANDARD
BEGIN:DAYLIGHT
TZOFFSETFROM:-0500
TZOFFSETTO:-0400
TZNAME:EDT
DTSTART:20220313T070000
END:DAYLIGHT
BEGIN:STANDARD
TZOFFSETFROM:-0400
TZOFFSETTO:-0500
TZNAME:EST
DTSTART:20221106T060000
END:STANDARD
BEGIN:DAYLIGHT
TZOFFSETFROM:-0500
TZOFFSETTO:-0400
TZNAME:EDT
DTSTART:20230312T070000
END:DAYLIGHT
BEGIN:STANDARD
TZOFFSETFROM:-0400
TZOFFSETTO:-0500
TZNAME:EST
DTSTART:20231105T060000
END:STANDARD
BEGIN:DAYLIGHT
TZOFFSETFROM:-0500
TZOFFSETTO:-0400
TZNAME:EDT
DTSTART:20240310T070000
END:DAYLIGHT
BEGIN:STANDARD
TZOFFSETFROM:-0400
TZOFFSETTO:-0500
TZNAME:EST
DTSTART:20241103T060000
END:STANDARD
END:VTIMEZONE
BEGIN:VEVENT
DTSTART;TZID=America/New_York:20230303T093000
DTEND;TZID=America/New_York:20230303T120000
DTSTAMP:20260423T193826
CREATED:20220110T171150Z
LAST-MODIFIED:20230104T174734Z
UID:15264-1677835800-1677844800@quietvalley.org
SUMMARY:Agricultural Inventors (Ages 7-12)
DESCRIPTION:How have inventions helped agricultural practices over time? Participants will learn about some of the inventions that influenced Quiet Valley and try their hand at solving an agricultural problem using their own inventing skills. \n\nAges: 7 – 12 yrs.\nCost: $23.00 per class (QV Members receive 15% off with code in email)\nWhen: 9:30a – 12:00p\n\nRegistration for this class can be completed online below or calling the farm at (570)992-6161.
URL:https://quietvalley.org/event/preparing-for-winter/
LOCATION:Quiet Valley Living Historical Farm\, 347 Quiet Valley Rd\, Stroudsburg\, PA\, 18360\, United States
CATEGORIES:Homeschool Heritage Program,Learning,Workshops
ATTACH;FMTTYPE=image/jpeg:https://quietvalley.org/wp-content/uploads/2022/01/wagon-wheel-simple-machines.jpg
END:VEVENT
BEGIN:VEVENT
DTSTART;TZID=America/New_York:20230219T130000
DTEND;TZID=America/New_York:20230219T150000
DTSTAMP:20260423T193826
CREATED:20220121T191358Z
LAST-MODIFIED:20230113T171903Z
UID:15508-1676811600-1676818800@quietvalley.org
SUMMARY:Soap Making Workshop (Adults)
DESCRIPTION:Have you ever wondered how people in the past made soap? Join us for an evening of learning how! Then\, learn how we make soap today. Each participant will make two types of soap—one traditional lye soap and one moisturizing soap. \n\nAges: 15 and up\nCost: $45 per person (QV members\, check your email or the newsletter for a discount code)\nWhen: Sunday\, February 19 from 1pm – 3pm
URL:https://quietvalley.org/event/soap-making-workshop-adults/
LOCATION:Quiet Valley Living Historical Farm\, 347 Quiet Valley Rd\, Stroudsburg\, PA\, 18360\, United States
CATEGORIES:Adult Workshops,Learning,Workshops
ATTACH;FMTTYPE=image/jpeg:https://quietvalley.org/wp-content/uploads/2022/01/Soap-Making-Workshop.jpg
END:VEVENT
BEGIN:VEVENT
DTSTART;TZID=America/New_York:20230217T093000
DTEND;TZID=America/New_York:20230217T120000
DTSTAMP:20260423T193826
CREATED:20220112T185637Z
LAST-MODIFIED:20230104T171528Z
UID:15284-1676626200-1676635200@quietvalley.org
SUMMARY:Quilting Bee (Ages 7-12)
DESCRIPTION:Social gatherings\, like quilting bees\, help families create basic needs\, from buildings to crafts. During this class\, participants will learn about quilt design\, ways people made quilts\, and design their own paper quilt patches. \n\nAges: 7 – 12 yrs.\nCost: $23.00 per class (QV Members receive 15% off with code in email)\nWhen: 9:30a – 12:00p\n\nRegistration for this class can be completed online below or calling the farm at (570)992-6161.
URL:https://quietvalley.org/event/food-management-from-salt-to-sugar-ages-11-15/
LOCATION:Quiet Valley Living Historical Farm\, 347 Quiet Valley Rd\, Stroudsburg\, PA\, 18360\, United States
CATEGORIES:Homeschool Heritage Program,Learning,Workshops
ATTACH;FMTTYPE=image/png:https://quietvalley.org/wp-content/uploads/2022/01/Untitled-design1.png
END:VEVENT
BEGIN:VEVENT
DTSTART;TZID=America/New_York:20230211T130000
DTEND;TZID=America/New_York:20230211T163000
DTSTAMP:20260423T193826
CREATED:20220111T163333Z
LAST-MODIFIED:20230106T151448Z
UID:15275-1676120400-1676133000@quietvalley.org
SUMMARY:Hearts and Sweets: Valentine's Day Workshop
DESCRIPTION:Join us for an afternoon of Valentine’s Day fun! Each participant will make a fraktur valentine\, a Scherenschnitte (paper cut) gift\, and some hot chocolate fudge to take home. \n\nAges: 15 and up\nCost: $45.00 per person\nWhen: 1:00p – 4:30p
URL:https://quietvalley.org/event/valentinesdayhearts/
LOCATION:Quiet Valley Living Historical Farm\, 347 Quiet Valley Rd\, Stroudsburg\, PA\, 18360\, United States
CATEGORIES:Adult Workshops,Learning,Workshops
ATTACH;FMTTYPE=image/jpeg:https://quietvalley.org/wp-content/uploads/2022/01/Valentine-Workshop.jpg
END:VEVENT
BEGIN:VEVENT
DTSTART;TZID=America/New_York:20230203T093000
DTEND;TZID=America/New_York:20230203T120000
DTSTAMP:20260423T193826
CREATED:20220321T131613Z
LAST-MODIFIED:20230104T170609Z
UID:15792-1675416600-1675425600@quietvalley.org
SUMMARY:Exploring Colonial Paper-making(Ages 7-12)
DESCRIPTION:How did papermaking play a role in colonial Pennsylvania? Learn about papermills and try making our own paper. \n\nAges: 7 – 12 yrs.\nCost: $23.00 per class (QV Members receive 15% off with code in email)\nWhen: 9:30a – 12:00p\n\nRegistration for this class can be completed online below or calling the farm at (570)992-6161.
URL:https://quietvalley.org/event/15792/
LOCATION:Quiet Valley Living Historical Farm\, 347 Quiet Valley Rd\, Stroudsburg\, PA\, 18360\, United States
CATEGORIES:Homeschool Heritage Program,Learning,Workshops
ATTACH;FMTTYPE=image/png:https://quietvalley.org/wp-content/uploads/2022/03/Untitled-design.png
END:VEVENT
BEGIN:VEVENT
DTSTART;TZID=America/New_York:20230120T093000
DTEND;TZID=America/New_York:20230120T120000
DTSTAMP:20260423T193826
CREATED:20220110T171744Z
LAST-MODIFIED:20230104T182551Z
UID:15267-1674207000-1674216000@quietvalley.org
SUMMARY:Wool and It's Uses (Ages 7 - 12)
DESCRIPTION:During this workshop\, participants will learn about the role of sheep on the farm. Then\, we’ll felt wool and make a decorative wall hanging or potholder. \n\nAges: 7 – 12 yrs.\nCost: $23.00 per class (QV Members receive 15% off with code in email)\nWhen: 9:30a – 12:00p\n\nRegistration for this class can be completed online below or calling the farm at (570)992-6161.
URL:https://quietvalley.org/event/everyday-tools-equiptment/
LOCATION:Quiet Valley Living Historical Farm\, 347 Quiet Valley Rd\, Stroudsburg\, PA\, 18360\, United States
CATEGORIES:Homeschool Heritage Program,Learning,Workshops
ATTACH;FMTTYPE=image/jpeg:https://quietvalley.org/wp-content/uploads/2021/08/Molly-and-One-Room-Schoohouse-Sheep-in-Grass-Thumbnail-Image.jpg
END:VEVENT
BEGIN:VEVENT
DTSTART;TZID=America/New_York:20220612T133000
DTEND;TZID=America/New_York:20220612T163000
DTSTAMP:20260423T193826
CREATED:20220214T184221Z
LAST-MODIFIED:20220214T184221Z
UID:15656-1655040600-1655051400@quietvalley.org
SUMMARY:Spring Hearth Cooking Workshop
DESCRIPTION:Explore the tastes of spring on the farm while learning traditional hearth cooking techniques. We will be cooking period-appropriate recipes to make a full meal to share for lunch. Participants should wear non-flammable clothing and may want to bring an apron. \n\nAges: 15 and up\nCost: $45 per person (QV members\, check your email or the newsletter for a discount code)\nWhen: 10:30a-1:30p\n\nRegistration for this class can be completed online here: https://quiet-valley.square.site/workshops \nSpace is limited\, register early.
URL:https://quietvalley.org/event/spring-hearth-cooking-workshop/
LOCATION:Quiet Valley Living Historical Farm\, 347 Quiet Valley Rd\, Stroudsburg\, PA\, 18360\, United States
CATEGORIES:Adult Workshops,Learning,Workshops
ATTACH;FMTTYPE=image/jpeg:https://quietvalley.org/wp-content/uploads/2022/02/Hearth-Cooking.jpg
END:VEVENT
BEGIN:VEVENT
DTSTART;TZID=America/New_York:20220402T090000
DTEND;TZID=America/New_York:20220402T120000
DTSTAMP:20260423T193826
CREATED:20220214T183339Z
LAST-MODIFIED:20220214T185030Z
UID:15651-1648890000-1648900800@quietvalley.org
SUMMARY:Apple Tree Grafting Workshop (Adults)
DESCRIPTION:During this workshop\, participants will learn how to propagate apples by grafting. You’ll learn how to graft into rootstock to create a new plant with fruit identical to the original cutting. With the skills learned during the workshop\, you’ll be able to do your own grafting later\, as well as create two grafted trees from the varieties in our orchard to take home. \nIf you have a grafting knife\, please bring it along. If you do not\, we will have some available to borrow. \n\nAges: 15 and up\nCost: $40 per person (QV members\, check your email or the newsletter for a discount code)\nWhen: 9:00a-12:00p\n\nRegistration for this class can be completed online here: https://quiet-valley.square.site/workshops \nSpace is limited\, register early.
URL:https://quietvalley.org/event/apple-tree-grafting-workshop-adults/
LOCATION:Quiet Valley Living Historical Farm\, 347 Quiet Valley Rd\, Stroudsburg\, PA\, 18360\, United States
CATEGORIES:Adult Workshops,Learning,Workshops
ATTACH;FMTTYPE=image/jpeg:https://quietvalley.org/wp-content/uploads/2022/02/Apple-Tree-Grafting.jpg
END:VEVENT
BEGIN:VEVENT
DTSTART;TZID=America/New_York:20220325T093000
DTEND;TZID=America/New_York:20220325T120000
DTSTAMP:20260423T193826
CREATED:20220111T164013Z
LAST-MODIFIED:20220111T164013Z
UID:15278-1648200600-1648209600@quietvalley.org
SUMMARY:Exploring Texture in Nature (Ages 7-10)
DESCRIPTION:Explore the world around you by determining how nonliving resources help sustain plant life. Then\, use visual arts techniques to examine texture in the natural world.\nInstructor: Cindy Lou Morris \n\nAges: 7-10 yrs.\nCost: $20.00 per class\nWhen: 9:30a – 12:00p\n\nRegistration for this class can be completed online here: https://quiet-valley.square.site/workshops
URL:https://quietvalley.org/event/exploring-texture-in-nature-ages-7-10/
LOCATION:Quiet Valley Living Historical Farm\, 347 Quiet Valley Rd\, Stroudsburg\, PA\, 18360\, United States
CATEGORIES:Homeschool Heritage Program,Learning,Workshops
ATTACH;FMTTYPE=image/png:https://quietvalley.org/wp-content/uploads/2022/01/Texture-in-Nature-Homeschool-Heritage.png
END:VEVENT
BEGIN:VEVENT
DTSTART;TZID=America/New_York:20220311T093000
DTEND;TZID=America/New_York:20220311T120000
DTSTAMP:20260423T193826
CREATED:20220110T170159Z
LAST-MODIFIED:20220110T170159Z
UID:15260-1646991000-1647000000@quietvalley.org
SUMMARY:Weaving (Ages 11-15)
DESCRIPTION:Learn about the historical importance of weaving and the role it played at Quiet Valley. Then\, practice the skill on different types of looms. Finally\, make your own woven wall hanging to take home! \n\nAges: 11 – 15 yrs.\nCost: $20.00 per class\nWhen: 9:30a – 12:00p\n\nRegistration for this class can be completed online here: https://quiet-valley.square.site/
URL:https://quietvalley.org/event/weaving-ages-11-15/
LOCATION:Quiet Valley Living Historical Farm\, 347 Quiet Valley Rd\, Stroudsburg\, PA\, 18360\, United States
CATEGORIES:Homeschool Heritage Program,Learning,Workshops
ATTACH;FMTTYPE=image/jpeg:https://quietvalley.org/wp-content/uploads/2022/01/Weaving-Homeschool-Heritage.jpg
END:VEVENT
BEGIN:VEVENT
DTSTART;TZID=America/New_York:20220218T093000
DTEND;TZID=America/New_York:20220218T120000
DTSTAMP:20260423T193826
CREATED:20220110T165221Z
LAST-MODIFIED:20220110T165302Z
UID:15257-1645176600-1645185600@quietvalley.org
SUMMARY:Clothes on the Grow (Ages 11-15)
DESCRIPTION:What are fibers and how do we use them at Quiet Valley? Participants will gain a broad understanding of the types and sources of different fibers\, examine their origins\, and observe their differences. Then\, we will discuss the pros and cons of the types of fibers used by a 19th-century farm family. Activities in this lesson will include examining clothing and clothing labels and observing how different types of fabric burn. \n\nAges: 11 – 15 yrs.\nCost: $20.00 per class\nWhen: 9:30a – 12:00p\n\nRegistration for this class can be completed online here: https://quiet-valley.square.site/
URL:https://quietvalley.org/event/clothes-on-the-grow-ages-11-15/
LOCATION:Quiet Valley Living Historical Farm\, 347 Quiet Valley Rd\, Stroudsburg\, PA\, 18360\, United States
CATEGORIES:Homeschool Heritage Program,Learning,Workshops
ATTACH;FMTTYPE=image/jpeg:https://quietvalley.org/wp-content/uploads/2022/01/Fiber-Homeschool-Heritage.jpg
END:VEVENT
BEGIN:VEVENT
DTSTART;TZID=America/New_York:20220204T093000
DTEND;TZID=America/New_York:20220204T120000
DTSTAMP:20260423T193826
CREATED:20220112T181122Z
LAST-MODIFIED:20220112T194053Z
UID:15281-1643967000-1643976000@quietvalley.org
SUMMARY:What is an Evergreen? (Ages 7-10)
DESCRIPTION:Participants will learn how evergreen trees grow from cone to maturity\, visit the farm and craft with conifer cones!\nInstructor: Julia Rettle \n\nAges: 7-10 yrs.\nCost: $20.00 per class\nWhen: 9:30a – 12:00p\n\nRegistration for this class can be completed online here: https://quiet-valley.square.site/
URL:https://quietvalley.org/event/what-is-an-evergreen-ages-7-10/
LOCATION:Quiet Valley Living Historical Farm\, 347 Quiet Valley Rd\, Stroudsburg\, PA\, 18360\, United States
CATEGORIES:Homeschool Heritage Program,Learning,Workshops
ATTACH;FMTTYPE=image/jpeg:https://quietvalley.org/wp-content/uploads/2022/01/Evcergreen-Homeschool-Heritage.jpg
END:VEVENT
BEGIN:VEVENT
DTSTART;TZID=America/New_York:20220204T093000
DTEND;TZID=America/New_York:20220204T120000
DTSTAMP:20260423T193826
CREATED:20220106T175813Z
LAST-MODIFIED:20220110T161750Z
UID:15209-1643967000-1643976000@quietvalley.org
SUMMARY:Sustainability\, Conservation\, and Ecosystems (Ages 11-15)
DESCRIPTION:What is sustainability and how does it apply to our lives? Participants will work together to understand conservation and resource preservation\, then visit the farm to learn about ecosystems and sustainability. Each student will make their own ecosystem to observe and care for at home! \n\nAges: 11 – 15 yrs.\nCost: $20.00 per class\nWhen: 9:30a – 12:00p\n\nRegistration for this class can be completed online here: https://quiet-valley.square.site/
URL:https://quietvalley.org/event/sustainability-conservation-and-ecosystems-ages-11-15/
LOCATION:Quiet Valley Living Historical Farm\, 347 Quiet Valley Rd\, Stroudsburg\, PA\, 18360\, United States
CATEGORIES:Homeschool Heritage Program,Learning,Workshops
ATTACH;FMTTYPE=image/jpeg:https://quietvalley.org/wp-content/uploads/2022/01/Ecosystem-Homeschool-Heritage.jpg
END:VEVENT
BEGIN:VEVENT
DTSTART;TZID=America/New_York:20211217T093000
DTEND;TZID=America/New_York:20211217T120000
DTSTAMP:20260423T193826
CREATED:20211108T223747Z
LAST-MODIFIED:20211116T175235Z
UID:14894-1639733400-1639742400@quietvalley.org
SUMMARY:Lighting (Ages 11-15)
DESCRIPTION:Learn about historic lighting and make your own lamp! \n\nAges: 11 – 15 yrs.\nCost: $15.00 per class\nWhen: 9:30a – 12:00p\n\nRegistration for this class can be completed online here: https://quiet-valley.square.site/
URL:https://quietvalley.org/event/christmas-tree-lighting-ages-11-15/
LOCATION:Quiet Valley Living Historical Farm\, 347 Quiet Valley Rd\, Stroudsburg\, PA\, 18360\, United States
CATEGORIES:Homeschool Heritage Program,Learning,Workshops
ATTACH;FMTTYPE=image/jpeg:https://quietvalley.org/wp-content/uploads/2021/11/Workshop-Homeschool-Heritage-Lighting-900-x-506.jpg
END:VEVENT
BEGIN:VEVENT
DTSTART;TZID=America/New_York:20211119T093000
DTEND;TZID=America/New_York:20211119T120000
DTSTAMP:20260423T193826
CREATED:20211108T195246Z
LAST-MODIFIED:20211108T195246Z
UID:14887-1637314200-1637323200@quietvalley.org
SUMMARY:Presentation Penn State Extension Watershed Steward (Ages 11-15)
DESCRIPTION:Participants ages 11-15 will receive a special presentation from Penn State Extension Watershed Steward. \n\nDate: November 19th 2021\nTime: 9:30 am – 12:00 pm\nPrice: $15\n\nRegistration for this class can be completed online here: https://quiet-valley.square.site/
URL:https://quietvalley.org/event/presentation-penn-state-extension-watershed-steward-ages-11-15/
LOCATION:Quiet Valley Living Historical Farm\, 347 Quiet Valley Rd\, Stroudsburg\, PA\, 18360\, United States
CATEGORIES:Homeschool Heritage Program,Learning,Workshops
ATTACH;FMTTYPE=image/jpeg:https://quietvalley.org/wp-content/uploads/2021/11/Workshop-Penn-Watershed-900-x-506.jpg
END:VEVENT
BEGIN:VEVENT
DTSTART;TZID=America/New_York:20211119T093000
DTEND;TZID=America/New_York:20211119T120000
DTSTAMP:20260423T193826
CREATED:20211108T194043Z
LAST-MODIFIED:20211108T194043Z
UID:14884-1637314200-1637323200@quietvalley.org
SUMMARY:Intro to Weaving (Ages 7-10)
DESCRIPTION:Participants will receive a basic introduction to weaving\, learn about the importance of weaving for the 19th-century family\, and work on their own weaving project. \n\nDate: November 19th\nTime: 9:30 am – 12:00 pm\nAges: 7-10\nInstructor: Sue Oiler\nPrice: $15\n\nRegistration for this class can be completed online here: https://quiet-valley.square.site/
URL:https://quietvalley.org/event/intro-to-weaving-ages-7-10/
LOCATION:Quiet Valley Living Historical Farm\, 347 Quiet Valley Rd\, Stroudsburg\, PA\, 18360\, United States
CATEGORIES:Homeschool Heritage Program,Learning,Workshops
ATTACH;FMTTYPE=image/jpeg:https://quietvalley.org/wp-content/uploads/2021/11/Workshop-Intro-to-Weaving-900-x-506.jpg
END:VEVENT
BEGIN:VEVENT
DTSTART;TZID=America/New_York:20210924T093000
DTEND;TZID=America/New_York:20210924T120000
DTSTAMP:20260423T193826
CREATED:20210906T200023Z
LAST-MODIFIED:20210907T211946Z
UID:14707-1632475800-1632484800@quietvalley.org
SUMMARY:Changing Seasons & Changing Leaves (Ages 7-10)
DESCRIPTION:Instructor: TBA \nLearn about the changing seasons and see what autumn brings to the farm. Go on a nature walk to look for signs of fall and create a leaf craft to take home. \n\nAges: 7 to 10 yrs.\nCost: $15.00 per class\nWhen: 9:30a – 12:00p\n\nHow to pre-register \n\nOnline Workshop Registration – add child name & age to order note\nPhone: 570-992-6161 (ext. 13)\nEmail: programs@quietvalley.org
URL:https://quietvalley.org/event/changing-seasons-changing-leaves-ages-7-10/
LOCATION:Quiet Valley Living Historical Farm\, 347 Quiet Valley Rd\, Stroudsburg\, PA\, 18360\, United States
CATEGORIES:Homeschool Heritage Program,Learning,Workshops
ATTACH;FMTTYPE=image/jpeg:https://quietvalley.org/wp-content/uploads/2021/09/Changing-Seasons-Changing-Leaves-Workshop-v.1.jpg
END:VEVENT
END:VCALENDAR