BEGIN:VCALENDAR
VERSION:2.0
PRODID:-//Quiet Valley Living Historical Farm - ECPv6.15.20//NONSGML v1.0//EN
CALSCALE:GREGORIAN
METHOD:PUBLISH
X-WR-CALNAME:Quiet Valley Living Historical Farm
X-ORIGINAL-URL:https://quietvalley.org
X-WR-CALDESC:Events for Quiet Valley Living Historical Farm
REFRESH-INTERVAL;VALUE=DURATION:PT1H
X-Robots-Tag:noindex
X-PUBLISHED-TTL:PT1H
BEGIN:VTIMEZONE
TZID:America/New_York
BEGIN:DAYLIGHT
TZOFFSETFROM:-0500
TZOFFSETTO:-0400
TZNAME:EDT
DTSTART:20250309T070000
END:DAYLIGHT
BEGIN:STANDARD
TZOFFSETFROM:-0400
TZOFFSETTO:-0500
TZNAME:EST
DTSTART:20251102T060000
END:STANDARD
BEGIN:DAYLIGHT
TZOFFSETFROM:-0500
TZOFFSETTO:-0400
TZNAME:EDT
DTSTART:20260308T070000
END:DAYLIGHT
BEGIN:STANDARD
TZOFFSETFROM:-0400
TZOFFSETTO:-0500
TZNAME:EST
DTSTART:20261101T060000
END:STANDARD
BEGIN:DAYLIGHT
TZOFFSETFROM:-0500
TZOFFSETTO:-0400
TZNAME:EDT
DTSTART:20270314T070000
END:DAYLIGHT
BEGIN:STANDARD
TZOFFSETFROM:-0400
TZOFFSETTO:-0500
TZNAME:EST
DTSTART:20271107T060000
END:STANDARD
END:VTIMEZONE
BEGIN:VEVENT
DTSTART;TZID=America/New_York:20260427T100000
DTEND;TZID=America/New_York:20260427T160000
DTSTAMP:20260423T121845
CREATED:20231222T183552Z
LAST-MODIFIED:20260114T192554Z
UID:17467-1777284000-1777305600@quietvalley.org
SUMMARY:Homeschool Tour Day
DESCRIPTION:Our Spring Homeschool Tour Day allows homeschool families to explore our 19th Century Homestead in greater detail than a regular Spring Field Trip. With their admission\, students and their families will be able to visit first-person interpreters stationed around the farm. From hearth cooking to animal care\, there’s sure to be something to interest everyone. We will also have timed demonstrations throughout the day. Start the day with fire-starting\, learn about simple machines on the farm\, or join us for a nature walk to the pond. Bring a lunch and enjoy it in the shade of our pavilion. Space is limited\, and advanced tickets are required. Click here to see a tentative map and schedule. \n\nDate & Time: Monday\, April 27th from 10am-4pm\nCost: $10 per person ages 5 and up\, including adults (at least one adult per family must attend)\n\nTicket sales will begin on January 15th \n \nFor information on cancellations and refunds please see our policy.
URL:https://quietvalley.org/event/homeschool-tour-day/
LOCATION:Quiet Valley Living Historical Farm\, 347 Quiet Valley Rd\, Stroudsburg\, PA\, 18360\, United States
CATEGORIES:Learning,Tours
ATTACH;FMTTYPE=image/jpeg:https://quietvalley.org/wp-content/uploads/2022/12/Slider-Template-Camps.jpg
END:VEVENT
BEGIN:VEVENT
DTSTART;TZID=America/New_York:20261011T100000
DTEND;TZID=America/New_York:20261011T170000
DTSTAMP:20260423T121845
CREATED:20260129T170805Z
LAST-MODIFIED:20260129T170805Z
UID:18835-1791712800-1791738000@quietvalley.org
SUMMARY:Harvest Festival
DESCRIPTION:52nd Annual Harvest Festival 2026 \nOur largest festival!!! Visitors will see demonstrations of many different heritage crafts and trades\, as well as traditional methods of cooking and processing various food items. Experience activities common in the 1800s\, such as candle dipping\, scrapple making\, tanning\, leather work\, spinning\, weaving and more! Other highlights include one-room school presentations\, Civil War encampment\, folk entertainment\, refreshments\, quilt raffle\, wagon rides\, and children activities! \n\nAdmission: $18 Adults / $10 Ages 3-12\nDate: Saturday Oct 10th / Sunday October 11th\nTime: 10:00am – 5:00pm both days\nNo Smoking\nNo Pets\nPrices and schedules subject to change\n\n+ Visit our Harvest Festival Volunteer Page if you are interested in volunteering. \n(All funds raised support the mission of the non-profit farm museum)
URL:https://quietvalley.org/event/harvest-festival-2/
LOCATION:Quiet Valley Living Historical Farm\, 347 Quiet Valley Rd\, Stroudsburg\, PA\, 18360\, United States
CATEGORIES:Learning,Workshops
ATTACH;FMTTYPE=image/jpeg:https://quietvalley.org/wp-content/uploads/2021/06/Harvest-Festival-Girls-Cooking-on-Outdoors.jpg
END:VEVENT
END:VCALENDAR