BEGIN:VCALENDAR
VERSION:2.0
PRODID:-//Quiet Valley Living Historical Farm - ECPv6.15.20//NONSGML v1.0//EN
CALSCALE:GREGORIAN
METHOD:PUBLISH
X-WR-CALNAME:Quiet Valley Living Historical Farm
X-ORIGINAL-URL:https://quietvalley.org
X-WR-CALDESC:Events for Quiet Valley Living Historical Farm
REFRESH-INTERVAL;VALUE=DURATION:PT1H
X-Robots-Tag:noindex
X-PUBLISHED-TTL:PT1H
BEGIN:VTIMEZONE
TZID:America/New_York
BEGIN:DAYLIGHT
TZOFFSETFROM:-0500
TZOFFSETTO:-0400
TZNAME:EDT
DTSTART:20230312T070000
END:DAYLIGHT
BEGIN:STANDARD
TZOFFSETFROM:-0400
TZOFFSETTO:-0500
TZNAME:EST
DTSTART:20231105T060000
END:STANDARD
BEGIN:DAYLIGHT
TZOFFSETFROM:-0500
TZOFFSETTO:-0400
TZNAME:EDT
DTSTART:20240310T070000
END:DAYLIGHT
BEGIN:STANDARD
TZOFFSETFROM:-0400
TZOFFSETTO:-0500
TZNAME:EST
DTSTART:20241103T060000
END:STANDARD
BEGIN:DAYLIGHT
TZOFFSETFROM:-0500
TZOFFSETTO:-0400
TZNAME:EDT
DTSTART:20250309T070000
END:DAYLIGHT
BEGIN:STANDARD
TZOFFSETFROM:-0400
TZOFFSETTO:-0500
TZNAME:EST
DTSTART:20251102T060000
END:STANDARD
END:VTIMEZONE
BEGIN:VEVENT
DTSTART;TZID=America/New_York:20240218T130000
DTEND;TZID=America/New_York:20240218T170000
DTSTAMP:20260423T203034
CREATED:20231211T161332Z
LAST-MODIFIED:20240111T181848Z
UID:17496-1708261200-1708275600@quietvalley.org
SUMMARY:Volunteer Costume Sewing Day
DESCRIPTION:The purpose of this workshop is to assist volunteers in creating their own period dress for volunteering at Quiet Valley. This workshop will focus on the early period (1820s) costume and is appropriate for most volunteer opportunities at Quiet Valley. Participants will provide all their own materials (see list below). If you have your own sewing machine\, please bring it along. A suggested donation to our Educational Scholarship Fund of $10 per participant is appreciated. This money helps make workshops and camps more affordable to participants. Preregistration is required\, and space is limited. \n\nDate: February 18\, 2024\, from 1:00-5:00\nWho: Ages 15 & up\nPrice: $10 minimum donation\n\n \nCLICK HERE TO FILL OUT THE REGISTRATION GOOGLE FORM \nCLICK HERE FOR THE MATERIALS REQUIREMENT FOR EACH COSTUME
URL:https://quietvalley.org/event/volunteer-costume-sewing-day-2/
LOCATION:Quiet Valley Living Historical Farm\, 347 Quiet Valley Rd\, Stroudsburg\, PA\, 18360\, United States
CATEGORIES:Adult Workshops,Learning,Workshops
ATTACH;FMTTYPE=image/jpeg:https://quietvalley.org/wp-content/uploads/2023/12/Costume-Sewing.jpg
END:VEVENT
END:VCALENDAR