BEGIN:VCALENDAR
VERSION:2.0
PRODID:-//Quiet Valley Living Historical Farm - ECPv6.15.20//NONSGML v1.0//EN
CALSCALE:GREGORIAN
METHOD:PUBLISH
X-WR-CALNAME:Quiet Valley Living Historical Farm
X-ORIGINAL-URL:https://quietvalley.org
X-WR-CALDESC:Events for Quiet Valley Living Historical Farm
REFRESH-INTERVAL;VALUE=DURATION:PT1H
X-Robots-Tag:noindex
X-PUBLISHED-TTL:PT1H
BEGIN:VTIMEZONE
TZID:America/New_York
BEGIN:DAYLIGHT
TZOFFSETFROM:-0500
TZOFFSETTO:-0400
TZNAME:EDT
DTSTART:20220313T070000
END:DAYLIGHT
BEGIN:STANDARD
TZOFFSETFROM:-0400
TZOFFSETTO:-0500
TZNAME:EST
DTSTART:20221106T060000
END:STANDARD
BEGIN:DAYLIGHT
TZOFFSETFROM:-0500
TZOFFSETTO:-0400
TZNAME:EDT
DTSTART:20230312T070000
END:DAYLIGHT
BEGIN:STANDARD
TZOFFSETFROM:-0400
TZOFFSETTO:-0500
TZNAME:EST
DTSTART:20231105T060000
END:STANDARD
BEGIN:DAYLIGHT
TZOFFSETFROM:-0500
TZOFFSETTO:-0400
TZNAME:EDT
DTSTART:20240310T070000
END:DAYLIGHT
BEGIN:STANDARD
TZOFFSETFROM:-0400
TZOFFSETTO:-0500
TZNAME:EST
DTSTART:20241103T060000
END:STANDARD
END:VTIMEZONE
BEGIN:VEVENT
DTSTART;TZID=America/New_York:20230616T173000
DTEND;TZID=America/New_York:20230616T203000
DTSTAMP:20260423T084849
CREATED:20210603T235628Z
LAST-MODIFIED:20230419T211957Z
UID:7256-1686936600-1686947400@quietvalley.org
SUMMARY:Victorian Picnic
DESCRIPTION:Join Quiet Valley on the eve of our summer opening for a Victorian picnic! Whether you bring your own picnic dinner or choose one of our catered options\, the atmosphere provided by live traditional music and a picturesque setting will transport you back to a simpler time. After dinner\, enjoy traditional desserts and lawn games\, before the evening commences in a lantern-lit nature walk. While it is not required\, all guests are encouraged to come dressed in their “Victorian Themed” best! \n\nPrice: $8 General Admission (Ages 3 & up)\nPicnic Dinner Box Add-On: $12 Per Person (See Details Below)\nDuration: 3 hrs\n\nDinner box details: \n\nEach box includes a choice between an egg salad sandwich on a croissant\, a chicken salad sandwich on a croissant\, or a ham sandwich on a croissant; each served with homemade farmers’ cheese\, crackers\, grapes\, and a pickle spear.\n\n \nQV Members receive 15% off with discount code in email.
URL:https://quietvalley.org/event/victorian-picnic/
LOCATION:Quiet Valley Living Historical Farm\, 347 Quiet Valley Rd\, Stroudsburg\, PA\, 18360\, United States
CATEGORIES:Farm-to-Table Dinner,Special Events
ATTACH;FMTTYPE=image/png:https://quietvalley.org/wp-content/uploads/2021/06/Untitled-design3.png
END:VEVENT
END:VCALENDAR