BEGIN:VCALENDAR
VERSION:2.0
PRODID:-//Quiet Valley Living Historical Farm - ECPv6.15.20//NONSGML v1.0//EN
CALSCALE:GREGORIAN
METHOD:PUBLISH
X-WR-CALNAME:Quiet Valley Living Historical Farm
X-ORIGINAL-URL:https://quietvalley.org
X-WR-CALDESC:Events for Quiet Valley Living Historical Farm
REFRESH-INTERVAL;VALUE=DURATION:PT1H
X-Robots-Tag:noindex
X-PUBLISHED-TTL:PT1H
BEGIN:VTIMEZONE
TZID:America/New_York
BEGIN:DAYLIGHT
TZOFFSETFROM:-0500
TZOFFSETTO:-0400
TZNAME:EDT
DTSTART:20240310T070000
END:DAYLIGHT
BEGIN:STANDARD
TZOFFSETFROM:-0400
TZOFFSETTO:-0500
TZNAME:EST
DTSTART:20241103T060000
END:STANDARD
BEGIN:DAYLIGHT
TZOFFSETFROM:-0500
TZOFFSETTO:-0400
TZNAME:EDT
DTSTART:20250309T070000
END:DAYLIGHT
BEGIN:STANDARD
TZOFFSETFROM:-0400
TZOFFSETTO:-0500
TZNAME:EST
DTSTART:20251102T060000
END:STANDARD
BEGIN:DAYLIGHT
TZOFFSETFROM:-0500
TZOFFSETTO:-0400
TZNAME:EDT
DTSTART:20260308T070000
END:DAYLIGHT
BEGIN:STANDARD
TZOFFSETFROM:-0400
TZOFFSETTO:-0500
TZNAME:EST
DTSTART:20261101T060000
END:STANDARD
END:VTIMEZONE
BEGIN:VEVENT
DTSTART;TZID=America/New_York:20251130T100000
DTEND;TZID=America/New_York:20251130T150000
DTSTAMP:20260423T083836
CREATED:20211117T151839Z
LAST-MODIFIED:20251103T161907Z
UID:14964-1764496800-1764514800@quietvalley.org
SUMMARY:Holiday Wreath Workshop
DESCRIPTION:Kick off your holiday season with some traditional handmade decorations! Participants will make and decorate an evergreen holiday wreath. All supplies including a wire wreath base\, floral wire\, assorted greens\, pinecones\, and ribbons are included. Light refreshments are available. You may bring clippers and any other decor you want to add to your wreath. Wine and other snacks BYO. \nDate and times \n\nNovember 30 from 10am-12pm\nNovember 30 from 1pm-3pm\n\nQV Members check your email or call the office for the 2025 member discount code. If you register for a workshop without the discount\, it cannot be applied after purchase. \n \nFor information on refunds and cancellations\, please see our policy.
URL:https://quietvalley.org/event/traditional-christmas-decor-2/
LOCATION:Quiet Valley Living Historical Farm\, 347 Quiet Valley Rd\, Stroudsburg\, PA\, 18360\, United States
CATEGORIES:Adult Workshops,Learning,Workshops
ATTACH;FMTTYPE=image/jpeg:https://quietvalley.org/wp-content/uploads/2021/11/Adult-Workshop-Christmas-Decor-v.1.jpg
END:VEVENT
END:VCALENDAR