BEGIN:VCALENDAR
VERSION:2.0
PRODID:-//Quiet Valley Living Historical Farm - ECPv6.15.20//NONSGML v1.0//EN
CALSCALE:GREGORIAN
METHOD:PUBLISH
X-WR-CALNAME:Quiet Valley Living Historical Farm
X-ORIGINAL-URL:https://quietvalley.org
X-WR-CALDESC:Events for Quiet Valley Living Historical Farm
REFRESH-INTERVAL;VALUE=DURATION:PT1H
X-Robots-Tag:noindex
X-PUBLISHED-TTL:PT1H
BEGIN:VTIMEZONE
TZID:America/New_York
BEGIN:DAYLIGHT
TZOFFSETFROM:-0500
TZOFFSETTO:-0400
TZNAME:EDT
DTSTART:20250309T070000
END:DAYLIGHT
BEGIN:STANDARD
TZOFFSETFROM:-0400
TZOFFSETTO:-0500
TZNAME:EST
DTSTART:20251102T060000
END:STANDARD
BEGIN:DAYLIGHT
TZOFFSETFROM:-0500
TZOFFSETTO:-0400
TZNAME:EDT
DTSTART:20260308T070000
END:DAYLIGHT
BEGIN:STANDARD
TZOFFSETFROM:-0400
TZOFFSETTO:-0500
TZNAME:EST
DTSTART:20261101T060000
END:STANDARD
BEGIN:DAYLIGHT
TZOFFSETFROM:-0500
TZOFFSETTO:-0400
TZNAME:EDT
DTSTART:20270314T070000
END:DAYLIGHT
BEGIN:STANDARD
TZOFFSETFROM:-0400
TZOFFSETTO:-0500
TZNAME:EST
DTSTART:20271107T060000
END:STANDARD
END:VTIMEZONE
BEGIN:VEVENT
DTSTART;TZID=America/New_York:20260215T130000
DTEND;TZID=America/New_York:20260215T153000
DTSTAMP:20260423T174712
CREATED:20240206T194024Z
LAST-MODIFIED:20260115T191601Z
UID:17676-1771160400-1771169400@quietvalley.org
SUMMARY:Valentine's Day Tea
DESCRIPTION:Valentine’s Day Tea\nSunday\, February 15 | 1:00–3:30 PM\nCost: $35 per person \nCelebrate the season of love with an elegant Valentine’s Day Tea at Quiet Valley. Guests will enjoy a Victorian-inspired tea party featuring fresh baked cookies\, scones\, cakes\, tea sandwiches\, and a selection of hot teas and lemonade\, all served in a warm and festive setting. \nDuring the afternoon\, we’ll share a glimpse into Victorian social customs\, including tea etiquette\, the art of hosting a proper tea\, and period-appropriate fashion. Guests are encouraged (but not required) to come dressed in their Victorian best to add to the charm of the occasion. \nA perfect way to spend a winter afternoon with friends\, family\, or fellow tea lovers while enjoying a timeless Valentine’s tradition. \nQV Members received 15% off with a discount code in your membership email. \nFor information on refunds and cancellations\, please see our policy.
URL:https://quietvalley.org/event/tea-party/
LOCATION:Quiet Valley Living Historical Farm\, 347 Quiet Valley Rd\, Stroudsburg\, PA\, 18360\, United States
CATEGORIES:Learning,Special Events,Workshops
ATTACH;FMTTYPE=image/jpeg:https://quietvalley.org/wp-content/uploads/2024/02/Easter-Tea.jpg
END:VEVENT
END:VCALENDAR