BEGIN:VCALENDAR
VERSION:2.0
PRODID:-//Quiet Valley Living Historical Farm - ECPv6.15.20//NONSGML v1.0//EN
CALSCALE:GREGORIAN
METHOD:PUBLISH
X-WR-CALNAME:Quiet Valley Living Historical Farm
X-ORIGINAL-URL:https://quietvalley.org
X-WR-CALDESC:Events for Quiet Valley Living Historical Farm
REFRESH-INTERVAL;VALUE=DURATION:PT1H
X-Robots-Tag:noindex
X-PUBLISHED-TTL:PT1H
BEGIN:VTIMEZONE
TZID:America/New_York
BEGIN:DAYLIGHT
TZOFFSETFROM:-0500
TZOFFSETTO:-0400
TZNAME:EDT
DTSTART:20250309T070000
END:DAYLIGHT
BEGIN:STANDARD
TZOFFSETFROM:-0400
TZOFFSETTO:-0500
TZNAME:EST
DTSTART:20251102T060000
END:STANDARD
BEGIN:DAYLIGHT
TZOFFSETFROM:-0500
TZOFFSETTO:-0400
TZNAME:EDT
DTSTART:20260308T070000
END:DAYLIGHT
BEGIN:STANDARD
TZOFFSETFROM:-0400
TZOFFSETTO:-0500
TZNAME:EST
DTSTART:20261101T060000
END:STANDARD
BEGIN:DAYLIGHT
TZOFFSETFROM:-0500
TZOFFSETTO:-0400
TZNAME:EDT
DTSTART:20270314T070000
END:DAYLIGHT
BEGIN:STANDARD
TZOFFSETFROM:-0400
TZOFFSETTO:-0500
TZNAME:EST
DTSTART:20271107T060000
END:STANDARD
END:VTIMEZONE
BEGIN:VEVENT
DTSTART;TZID=America/New_York:20261023T180000
DTEND;TZID=America/New_York:20261024T203000
DTSTAMP:20260423T071345
CREATED:20210603T235210Z
LAST-MODIFIED:20260129T183140Z
UID:7248-1792778400-1792873800@quietvalley.org
SUMMARY:Spooky Days on the Farm
DESCRIPTION:Activities turn towards the things that go bump in the night around Halloween! \nOn Friday and Saturday nights put your detective skills to the test by helping solve a murder mystery! A guide will take you around the farm as you meet the suspects\, gather clues\, and more! This program takes approximately 1 1/2 to 2 hours and tours are continuous. The last tour begins at 8:30 pm from the log cabin gift shop. Get into the haunted Halloween spirit with something more unique than just another haunted house. \nThis program is designed by a forensic specialist and includes discussions and depictions of death and murder. The farm is extremely dark at night and we encourage visitors to bring flashlights. Actors are not permitted to touch visitors. Not suitable for audiences under age 7. \n\nDate: Friday Oct 23rd / Saturday Oct 24th\nTime: Friday- 6pm to 8:30pm\, Saturday- 5pm-8:3opm\nAdmission: $18 Adults\, $10 Ages 3-12\n\nTickets will go on sale on September 1st.
URL:https://quietvalley.org/event/spooky-days-on-the-farm/
LOCATION:Quiet Valley Living Historical Farm\, 347 Quiet Valley Rd\, Stroudsburg\, PA\, 18360\, United States
CATEGORIES:Festivals,Spooky Days on the Farm
ATTACH;FMTTYPE=image/jpeg:https://quietvalley.org/wp-content/uploads/2021/06/Spooky-Days-on-the-Farm-Carving-a-Jackolantern-2.jpg
END:VEVENT
END:VCALENDAR