BEGIN:VCALENDAR
VERSION:2.0
PRODID:-//Quiet Valley Living Historical Farm - ECPv6.15.20//NONSGML v1.0//EN
CALSCALE:GREGORIAN
METHOD:PUBLISH
X-WR-CALNAME:Quiet Valley Living Historical Farm
X-ORIGINAL-URL:https://quietvalley.org
X-WR-CALDESC:Events for Quiet Valley Living Historical Farm
REFRESH-INTERVAL;VALUE=DURATION:PT1H
X-Robots-Tag:noindex
X-PUBLISHED-TTL:PT1H
BEGIN:VTIMEZONE
TZID:America/New_York
BEGIN:DAYLIGHT
TZOFFSETFROM:-0500
TZOFFSETTO:-0400
TZNAME:EDT
DTSTART:20220313T070000
END:DAYLIGHT
BEGIN:STANDARD
TZOFFSETFROM:-0400
TZOFFSETTO:-0500
TZNAME:EST
DTSTART:20221106T060000
END:STANDARD
BEGIN:DAYLIGHT
TZOFFSETFROM:-0500
TZOFFSETTO:-0400
TZNAME:EDT
DTSTART:20230312T070000
END:DAYLIGHT
BEGIN:STANDARD
TZOFFSETFROM:-0400
TZOFFSETTO:-0500
TZNAME:EST
DTSTART:20231105T060000
END:STANDARD
BEGIN:DAYLIGHT
TZOFFSETFROM:-0500
TZOFFSETTO:-0400
TZNAME:EDT
DTSTART:20240310T070000
END:DAYLIGHT
BEGIN:STANDARD
TZOFFSETFROM:-0400
TZOFFSETTO:-0500
TZNAME:EST
DTSTART:20241103T060000
END:STANDARD
END:VTIMEZONE
BEGIN:VEVENT
DTSTART;TZID=America/New_York:20230816T100000
DTEND;TZID=America/New_York:20230816T153000
DTSTAMP:20260423T013117
CREATED:20230815T143726Z
LAST-MODIFIED:20230815T143726Z
UID:17353-1692180000-1692199800@quietvalley.org
SUMMARY:Soap Making
DESCRIPTION:Learn about traditional soap making during our demo! Join us to see how we get the lye and use lard to make our soap for the year. \n\nDate: Wednesday\, August 16th\nTime: 10:00 am – 3:30 pm\nFee: Included with tour admission
URL:https://quietvalley.org/event/soap-making/
CATEGORIES:Special Events,Summer Highlights Demos
ATTACH;FMTTYPE=image/jpeg:https://quietvalley.org/wp-content/uploads/2022/01/Soap-Making-Workshop.jpg
END:VEVENT
END:VCALENDAR