BEGIN:VCALENDAR
VERSION:2.0
PRODID:-//Quiet Valley Living Historical Farm - ECPv6.15.20//NONSGML v1.0//EN
CALSCALE:GREGORIAN
METHOD:PUBLISH
X-WR-CALNAME:Quiet Valley Living Historical Farm
X-ORIGINAL-URL:https://quietvalley.org
X-WR-CALDESC:Events for Quiet Valley Living Historical Farm
REFRESH-INTERVAL;VALUE=DURATION:PT1H
X-Robots-Tag:noindex
X-PUBLISHED-TTL:PT1H
BEGIN:VTIMEZONE
TZID:America/New_York
BEGIN:DAYLIGHT
TZOFFSETFROM:-0500
TZOFFSETTO:-0400
TZNAME:EDT
DTSTART:20250309T070000
END:DAYLIGHT
BEGIN:STANDARD
TZOFFSETFROM:-0400
TZOFFSETTO:-0500
TZNAME:EST
DTSTART:20251102T060000
END:STANDARD
BEGIN:DAYLIGHT
TZOFFSETFROM:-0500
TZOFFSETTO:-0400
TZNAME:EDT
DTSTART:20260308T070000
END:DAYLIGHT
BEGIN:STANDARD
TZOFFSETFROM:-0400
TZOFFSETTO:-0500
TZNAME:EST
DTSTART:20261101T060000
END:STANDARD
BEGIN:DAYLIGHT
TZOFFSETFROM:-0500
TZOFFSETTO:-0400
TZNAME:EDT
DTSTART:20270314T070000
END:DAYLIGHT
BEGIN:STANDARD
TZOFFSETFROM:-0400
TZOFFSETTO:-0500
TZNAME:EST
DTSTART:20271107T060000
END:STANDARD
END:VTIMEZONE
BEGIN:VEVENT
DTSTART;TZID=America/New_York:20260418T093000
DTEND;TZID=America/New_York:20260418T143000
DTSTAMP:20260423T175309
CREATED:20260106T195335Z
LAST-MODIFIED:20260112T181129Z
UID:18770-1776504600-1776522600@quietvalley.org
SUMMARY:Seat Weaving Workshop
DESCRIPTION:Seat Weaving Workshop\n April 18 | 9:30 AM–2:30 PM\n Cost: $70 \nLearn the traditional skill of seat weaving in this hands-on workshop using natural reed and a classic herringbone pattern. Participants will weave a functional seat onto a wooden stool while learning the fundamentals of layout\, tension\, and finishing techniques. \nThe completed stool can be used as a child’s seat\, footrest\, plant stand\, or decorative accent\, making this a practical and rewarding project. All supplies are included\, and no prior seat-weaving experience is required. Instruction will be provided throughout the day to support both beginners and those looking to expand their handcraft skills. \nParticipants will leave with a completed woven seat and a solid introduction to this enduring furniture-making tradition. \nInstructor: Ceal Yost \nQV Members\, check your email or call the office for the 2026 member discount code. \n \nFor information on refunds and cancellations\, please see our policy.
URL:https://quietvalley.org/event/seat-weaving-workshop/
LOCATION:Quiet Valley Living Historical Farm\, 347 Quiet Valley Rd\, Stroudsburg\, PA\, 18360\, United States
CATEGORIES:Adult Workshops,Learning,Workshops
ATTACH;FMTTYPE=image/jpeg:https://quietvalley.org/wp-content/uploads/2026/01/2026-Event-Graphics.jpg
END:VEVENT
END:VCALENDAR