BEGIN:VCALENDAR
VERSION:2.0
PRODID:-//Quiet Valley Living Historical Farm - ECPv6.15.20//NONSGML v1.0//EN
CALSCALE:GREGORIAN
METHOD:PUBLISH
X-WR-CALNAME:Quiet Valley Living Historical Farm
X-ORIGINAL-URL:https://quietvalley.org
X-WR-CALDESC:Events for Quiet Valley Living Historical Farm
REFRESH-INTERVAL;VALUE=DURATION:PT1H
X-Robots-Tag:noindex
X-PUBLISHED-TTL:PT1H
BEGIN:VTIMEZONE
TZID:America/New_York
BEGIN:DAYLIGHT
TZOFFSETFROM:-0500
TZOFFSETTO:-0400
TZNAME:EDT
DTSTART:20220313T070000
END:DAYLIGHT
BEGIN:STANDARD
TZOFFSETFROM:-0400
TZOFFSETTO:-0500
TZNAME:EST
DTSTART:20221106T060000
END:STANDARD
BEGIN:DAYLIGHT
TZOFFSETFROM:-0500
TZOFFSETTO:-0400
TZNAME:EDT
DTSTART:20230312T070000
END:DAYLIGHT
BEGIN:STANDARD
TZOFFSETFROM:-0400
TZOFFSETTO:-0500
TZNAME:EST
DTSTART:20231105T060000
END:STANDARD
BEGIN:DAYLIGHT
TZOFFSETFROM:-0500
TZOFFSETTO:-0400
TZNAME:EDT
DTSTART:20240310T070000
END:DAYLIGHT
BEGIN:STANDARD
TZOFFSETFROM:-0400
TZOFFSETTO:-0500
TZNAME:EST
DTSTART:20241103T060000
END:STANDARD
END:VTIMEZONE
BEGIN:VEVENT
DTSTART;TZID=America/New_York:20230714T100000
DTEND;TZID=America/New_York:20230714T153000
DTSTAMP:20260422T233756
CREATED:20210707T220001Z
LAST-MODIFIED:20230511T201209Z
UID:9864-1689328800-1689348600@quietvalley.org
SUMMARY:Pottery Day
DESCRIPTION:This craft has been practiced for thousands of years and was a way to provide families with basic plates\, cups and other types of vessels. Today the same articles are made as well as many other functional and artistic items. \n\nInstructor: Joan Glusiec\nDate: Friday July 14th\nTime: 10:00am – 3:30pm\nFee: Included with tour admission
URL:https://quietvalley.org/event/pottery/
LOCATION:Quiet Valley Living Historical Farm\, 347 Quiet Valley Rd\, Stroudsburg\, PA\, 18360\, United States
CATEGORIES:Special Events,Summer Highlights Demos
ATTACH;FMTTYPE=image/jpeg:https://quietvalley.org/wp-content/uploads/2021/07/potter-wheel-spinning-opening.jpg
END:VEVENT
END:VCALENDAR