BEGIN:VCALENDAR
VERSION:2.0
PRODID:-//Quiet Valley Living Historical Farm - ECPv6.15.20//NONSGML v1.0//EN
CALSCALE:GREGORIAN
METHOD:PUBLISH
X-WR-CALNAME:Quiet Valley Living Historical Farm
X-ORIGINAL-URL:https://quietvalley.org
X-WR-CALDESC:Events for Quiet Valley Living Historical Farm
REFRESH-INTERVAL;VALUE=DURATION:PT1H
X-Robots-Tag:noindex
X-PUBLISHED-TTL:PT1H
BEGIN:VTIMEZONE
TZID:America/New_York
BEGIN:DAYLIGHT
TZOFFSETFROM:-0500
TZOFFSETTO:-0400
TZNAME:EDT
DTSTART:20240310T070000
END:DAYLIGHT
BEGIN:STANDARD
TZOFFSETFROM:-0400
TZOFFSETTO:-0500
TZNAME:EST
DTSTART:20241103T060000
END:STANDARD
BEGIN:DAYLIGHT
TZOFFSETFROM:-0500
TZOFFSETTO:-0400
TZNAME:EDT
DTSTART:20250309T070000
END:DAYLIGHT
BEGIN:STANDARD
TZOFFSETFROM:-0400
TZOFFSETTO:-0500
TZNAME:EST
DTSTART:20251102T060000
END:STANDARD
BEGIN:DAYLIGHT
TZOFFSETFROM:-0500
TZOFFSETTO:-0400
TZNAME:EDT
DTSTART:20260308T070000
END:DAYLIGHT
BEGIN:STANDARD
TZOFFSETFROM:-0400
TZOFFSETTO:-0500
TZNAME:EST
DTSTART:20261101T060000
END:STANDARD
END:VTIMEZONE
BEGIN:VEVENT
DTSTART;TZID=America/New_York:20250719T120000
DTEND;TZID=America/New_York:20250719T160000
DTSTAMP:20260423T071406
CREATED:20240429T184034Z
LAST-MODIFIED:20250703T212349Z
UID:17780-1752926400-1752940800@quietvalley.org
SUMMARY:Plein Air Art Show & Auction
DESCRIPTION:Join us for our second annual Plein Air/Studio Art On The Farm artists’ reception\, judging\, and silent auction on July 19 2025. \n\nSaturday\, July 19 1pm-4pm\n\n12:00- Awards and Auction Opens\n12:00-4:00- Silent Auction\n4:00- Auction Winners Announced and Art Pieces available for pick up\n\n\n\nFree admission to the art show does not include admission to the farm.
URL:https://quietvalley.org/event/plein-air-on-the-farm-2/
LOCATION:Quiet Valley Living Historical Farm\, 347 Quiet Valley Rd\, Stroudsburg\, PA\, 18360\, United States
CATEGORIES:Other Events & Activities,Special Events
ATTACH;FMTTYPE=image/png:https://quietvalley.org/wp-content/uploads/2024/03/image0.png
END:VEVENT
END:VCALENDAR