BEGIN:VCALENDAR
VERSION:2.0
PRODID:-//Quiet Valley Living Historical Farm - ECPv6.15.20//NONSGML v1.0//EN
CALSCALE:GREGORIAN
METHOD:PUBLISH
X-WR-CALNAME:Quiet Valley Living Historical Farm
X-ORIGINAL-URL:https://quietvalley.org
X-WR-CALDESC:Events for Quiet Valley Living Historical Farm
REFRESH-INTERVAL;VALUE=DURATION:PT1H
X-Robots-Tag:noindex
X-PUBLISHED-TTL:PT1H
BEGIN:VTIMEZONE
TZID:America/New_York
BEGIN:DAYLIGHT
TZOFFSETFROM:-0500
TZOFFSETTO:-0400
TZNAME:EDT
DTSTART:20240310T070000
END:DAYLIGHT
BEGIN:STANDARD
TZOFFSETFROM:-0400
TZOFFSETTO:-0500
TZNAME:EST
DTSTART:20241103T060000
END:STANDARD
BEGIN:DAYLIGHT
TZOFFSETFROM:-0500
TZOFFSETTO:-0400
TZNAME:EDT
DTSTART:20250309T070000
END:DAYLIGHT
BEGIN:STANDARD
TZOFFSETFROM:-0400
TZOFFSETTO:-0500
TZNAME:EST
DTSTART:20251102T060000
END:STANDARD
BEGIN:DAYLIGHT
TZOFFSETFROM:-0500
TZOFFSETTO:-0400
TZNAME:EDT
DTSTART:20260308T070000
END:DAYLIGHT
BEGIN:STANDARD
TZOFFSETFROM:-0400
TZOFFSETTO:-0500
TZNAME:EST
DTSTART:20261101T060000
END:STANDARD
END:VTIMEZONE
BEGIN:VEVENT
DTSTART;TZID=America/New_York:20250814T100000
DTEND;TZID=America/New_York:20250814T153000
DTSTAMP:20260423T174521
CREATED:20210623T050241Z
LAST-MODIFIED:20250814T133557Z
UID:8275-1755165600-1755185400@quietvalley.org
SUMMARY:One Room School
DESCRIPTION:The schoolmarm will be holding class in the One-Room School. Participate as “students” and see how your grandparents learned their three Rs (reading\, writing & arithmetic) with all grades (1st through 8th) in one room. \n\nDate: Thursday\, August 14th\nTime: 10:00am – 3:30pm\nFee: Included with tour admission\nInstructor: Bonnie Scott\n\nThis is a special tour happening throughout the day that is included in your admission. There is no registration.
URL:https://quietvalley.org/event/one-room-school/
LOCATION:Quiet Valley Living Historical Farm\, 347 Quiet Valley Rd\, Stroudsburg\, PA\, 18360\, United States
CATEGORIES:Special Events,Summer Highlights Demos
ATTACH;FMTTYPE=image/jpeg:https://quietvalley.org/wp-content/uploads/2021/06/One-Room-School-Summer-Highlight-Thumbnail-v.6.jpg
END:VEVENT
END:VCALENDAR