BEGIN:VCALENDAR
VERSION:2.0
PRODID:-//Quiet Valley Living Historical Farm - ECPv6.15.20//NONSGML v1.0//EN
CALSCALE:GREGORIAN
METHOD:PUBLISH
X-WR-CALNAME:Quiet Valley Living Historical Farm
X-ORIGINAL-URL:https://quietvalley.org
X-WR-CALDESC:Events for Quiet Valley Living Historical Farm
REFRESH-INTERVAL;VALUE=DURATION:PT1H
X-Robots-Tag:noindex
X-PUBLISHED-TTL:PT1H
BEGIN:VTIMEZONE
TZID:America/New_York
BEGIN:DAYLIGHT
TZOFFSETFROM:-0500
TZOFFSETTO:-0400
TZNAME:EDT
DTSTART:20250309T070000
END:DAYLIGHT
BEGIN:STANDARD
TZOFFSETFROM:-0400
TZOFFSETTO:-0500
TZNAME:EST
DTSTART:20251102T060000
END:STANDARD
BEGIN:DAYLIGHT
TZOFFSETFROM:-0500
TZOFFSETTO:-0400
TZNAME:EDT
DTSTART:20260308T070000
END:DAYLIGHT
BEGIN:STANDARD
TZOFFSETFROM:-0400
TZOFFSETTO:-0500
TZNAME:EST
DTSTART:20261101T060000
END:STANDARD
BEGIN:DAYLIGHT
TZOFFSETFROM:-0500
TZOFFSETTO:-0400
TZNAME:EDT
DTSTART:20270314T070000
END:DAYLIGHT
BEGIN:STANDARD
TZOFFSETFROM:-0400
TZOFFSETTO:-0500
TZNAME:EST
DTSTART:20271107T060000
END:STANDARD
END:VTIMEZONE
BEGIN:VEVENT
DTSTART;TZID=America/New_York:20260228T100000
DTEND;TZID=America/New_York:20260228T140000
DTSTAMP:20260423T155408
CREATED:20260113T155708Z
LAST-MODIFIED:20260113T155708Z
UID:18801-1772272800-1772287200@quietvalley.org
SUMMARY:Historic Lighting & Hand-Dipped Candle Workshop
DESCRIPTION:Historic Lighting & Hand-Dipped Candle Workshop\nSaturday\, February 28 | 10:00 AM–2:00 PM\nCost: $45 per person \nStep back in time and explore how people lit their homes before electricity in this hands-on historic lighting workshop. Participants will learn about traditional lighting methods and the role candles played in everyday life while creating their own hand-dipped taper candles. \nThe workshop will cover historic approaches to measuring and preparing wax\, followed by guided instruction in dipping taper candles using methods similar to those practiced in the past. Participants will also learn how to properly finish and care for their candles so they can be safely used at home. \nNo prior experience is necessary. All materials are provided\, and each participant will leave with a set of handmade candles and a deeper understanding of historic household lighting. Participants should bring a lunch. This workshop is for participants ages 15 and older. \nInstructor: Hannah Franko \nQV Members\, check your email or call the office for the 2026 member discount code. \n \nFor information on refunds and cancellations\, please see our policy.
URL:https://quietvalley.org/event/historic-lighting-hand-dipped-candle-workshop/
LOCATION:Quiet Valley Living Historical Farm\, 347 Quiet Valley Rd\, Stroudsburg\, PA\, 18360\, United States
CATEGORIES:Learning,Workshops
ATTACH;FMTTYPE=image/jpeg:https://quietvalley.org/wp-content/uploads/2026/01/2026-Event-Graphics-1.jpg
END:VEVENT
END:VCALENDAR