BEGIN:VCALENDAR
VERSION:2.0
PRODID:-//Quiet Valley Living Historical Farm - ECPv6.15.20//NONSGML v1.0//EN
CALSCALE:GREGORIAN
METHOD:PUBLISH
X-WR-CALNAME:Quiet Valley Living Historical Farm
X-ORIGINAL-URL:https://quietvalley.org
X-WR-CALDESC:Events for Quiet Valley Living Historical Farm
REFRESH-INTERVAL;VALUE=DURATION:PT1H
X-Robots-Tag:noindex
X-PUBLISHED-TTL:PT1H
BEGIN:VTIMEZONE
TZID:America/New_York
BEGIN:DAYLIGHT
TZOFFSETFROM:-0500
TZOFFSETTO:-0400
TZNAME:EDT
DTSTART:20250309T070000
END:DAYLIGHT
BEGIN:STANDARD
TZOFFSETFROM:-0400
TZOFFSETTO:-0500
TZNAME:EST
DTSTART:20251102T060000
END:STANDARD
BEGIN:DAYLIGHT
TZOFFSETFROM:-0500
TZOFFSETTO:-0400
TZNAME:EDT
DTSTART:20260308T070000
END:DAYLIGHT
BEGIN:STANDARD
TZOFFSETFROM:-0400
TZOFFSETTO:-0500
TZNAME:EST
DTSTART:20261101T060000
END:STANDARD
BEGIN:DAYLIGHT
TZOFFSETFROM:-0500
TZOFFSETTO:-0400
TZNAME:EDT
DTSTART:20270314T070000
END:DAYLIGHT
BEGIN:STANDARD
TZOFFSETFROM:-0400
TZOFFSETTO:-0500
TZNAME:EST
DTSTART:20271107T060000
END:STANDARD
END:VTIMEZONE
BEGIN:VEVENT
DTSTART;TZID=America/New_York:20260515T090000
DTEND;TZID=America/New_York:20260515T150000
DTSTAMP:20260423T012733
CREATED:20260407T175140Z
LAST-MODIFIED:20260407T175140Z
UID:18963-1778835600-1778857200@quietvalley.org
SUMMARY:Flea Market and Spring Plant Sale
DESCRIPTION:Flea Market and Spring Plant Sale\nFriday May 15  9AM- 3PM\nRain or Shine\nNo early birds\, thank you. \n\n\n  \nLarge tent with 20 tables of vintage\, household\, jewelry\, linens\, kitchen ware\, dishes\, tools\, flower pots\, decorative items for sale. Plus lots of plants grown on site including heirloom vegetables\, herbs and annual flowering plants.
URL:https://quietvalley.org/event/flea-market-and-spring-plant-sale/
LOCATION:Quiet Valley Living Historical Farm\, 347 Quiet Valley Rd\, Stroudsburg\, PA\, 18360\, United States
CATEGORIES:Special Events
ATTACH;FMTTYPE=image/jpeg:https://quietvalley.org/wp-content/uploads/2026/04/2026-Event-Graphics-4.jpg
END:VEVENT
END:VCALENDAR