BEGIN:VCALENDAR
VERSION:2.0
PRODID:-//Quiet Valley Living Historical Farm - ECPv6.15.20//NONSGML v1.0//EN
CALSCALE:GREGORIAN
METHOD:PUBLISH
X-WR-CALNAME:Quiet Valley Living Historical Farm
X-ORIGINAL-URL:https://quietvalley.org
X-WR-CALDESC:Events for Quiet Valley Living Historical Farm
REFRESH-INTERVAL;VALUE=DURATION:PT1H
X-Robots-Tag:noindex
X-PUBLISHED-TTL:PT1H
BEGIN:VTIMEZONE
TZID:America/New_York
BEGIN:DAYLIGHT
TZOFFSETFROM:-0500
TZOFFSETTO:-0400
TZNAME:EDT
DTSTART:20250309T070000
END:DAYLIGHT
BEGIN:STANDARD
TZOFFSETFROM:-0400
TZOFFSETTO:-0500
TZNAME:EST
DTSTART:20251102T060000
END:STANDARD
BEGIN:DAYLIGHT
TZOFFSETFROM:-0500
TZOFFSETTO:-0400
TZNAME:EDT
DTSTART:20260308T070000
END:DAYLIGHT
BEGIN:STANDARD
TZOFFSETFROM:-0400
TZOFFSETTO:-0500
TZNAME:EST
DTSTART:20261101T060000
END:STANDARD
BEGIN:DAYLIGHT
TZOFFSETFROM:-0500
TZOFFSETTO:-0400
TZNAME:EDT
DTSTART:20270314T070000
END:DAYLIGHT
BEGIN:STANDARD
TZOFFSETFROM:-0400
TZOFFSETTO:-0500
TZNAME:EST
DTSTART:20271107T060000
END:STANDARD
END:VTIMEZONE
BEGIN:VEVENT
DTSTART;TZID=America/New_York:20260207T093000
DTEND;TZID=America/New_York:20260207T123000
DTSTAMP:20260423T135137
CREATED:20231218T165332Z
LAST-MODIFIED:20260129T182557Z
UID:17503-1770456600-1770467400@quietvalley.org
SUMMARY:Embroidered Tote Workshop
DESCRIPTION:Embroidered Tote Bag Workshop – Wildflowers\nSaturday\, February 7 | 9:30 AM–12:30 PM\nOptional follow-up work session: Thursday\, February 19 | 5:30–7:30 PM\nCost: $50 per person \nTHIS WORKSHOP IS FULL. WAITLIST AVAILABLE. PLEASE EMAIL PROGRAMS@QUIETVALLEY.ORG \nAdd a handmade touch to an everyday essential in this embroidered tote bag workshop. Participants will stitch a wildflower design onto a tote bag while learning basic embroidery techniques\, including transferring a pattern\, starting and finishing stitches\, and building texture and detail with thread. \nThis workshop is designed for both beginners and those with some embroidery experience. You’ll leave the main session well on your way to completing your tote\, with guidance on how to continue stitching at home. An optional follow-up work session is offered for anyone who would like additional time\, support\, and instruction to finish their project.\n\nInstructor: Deb Seip \nQV Members\, check your email or call the office for the 2026 member discount code. \n \nFor information on refunds and cancellations\, please see our policy.
URL:https://quietvalley.org/event/embroidery-workshop/
LOCATION:Quiet Valley Living Historical Farm\, 347 Quiet Valley Rd\, Stroudsburg\, PA\, 18360\, United States
CATEGORIES:Adult Workshops,Learning,Workshops
ATTACH;FMTTYPE=image/jpeg:https://quietvalley.org/wp-content/uploads/2023/12/1.jpg
END:VEVENT
END:VCALENDAR