BEGIN:VCALENDAR
VERSION:2.0
PRODID:-//Quiet Valley Living Historical Farm - ECPv6.15.20//NONSGML v1.0//EN
CALSCALE:GREGORIAN
METHOD:PUBLISH
X-WR-CALNAME:Quiet Valley Living Historical Farm
X-ORIGINAL-URL:https://quietvalley.org
X-WR-CALDESC:Events for Quiet Valley Living Historical Farm
REFRESH-INTERVAL;VALUE=DURATION:PT1H
X-Robots-Tag:noindex
X-PUBLISHED-TTL:PT1H
BEGIN:VTIMEZONE
TZID:America/New_York
BEGIN:DAYLIGHT
TZOFFSETFROM:-0500
TZOFFSETTO:-0400
TZNAME:EDT
DTSTART:20240310T070000
END:DAYLIGHT
BEGIN:STANDARD
TZOFFSETFROM:-0400
TZOFFSETTO:-0500
TZNAME:EST
DTSTART:20241103T060000
END:STANDARD
BEGIN:DAYLIGHT
TZOFFSETFROM:-0500
TZOFFSETTO:-0400
TZNAME:EDT
DTSTART:20250309T070000
END:DAYLIGHT
BEGIN:STANDARD
TZOFFSETFROM:-0400
TZOFFSETTO:-0500
TZNAME:EST
DTSTART:20251102T060000
END:STANDARD
BEGIN:DAYLIGHT
TZOFFSETFROM:-0500
TZOFFSETTO:-0400
TZNAME:EDT
DTSTART:20260308T070000
END:DAYLIGHT
BEGIN:STANDARD
TZOFFSETFROM:-0400
TZOFFSETTO:-0500
TZNAME:EST
DTSTART:20261101T060000
END:STANDARD
END:VTIMEZONE
BEGIN:VEVENT
DTSTART;TZID=America/New_York:20251217T100000
DTEND;TZID=America/New_York:20251217T130000
DTSTAMP:20260423T121813
CREATED:20231113T141300Z
LAST-MODIFIED:20251105T201929Z
UID:17463-1765965600-1765976400@quietvalley.org
SUMMARY:Christmas on the Farm Homeschool Program (Second Offering)
DESCRIPTION:How did different cultures celebrate Christmas in the past? Make a traditional Christmas craft and try recipes from different cultures to learn about the customs and traditions that made up Christmas in Colonial America. \nAll participants aged five and older (including adults) must purchase a ticket. At least one paying adult must attend per family. The program will conclude with lunch from approximately 12:15-1:00. Participants are encouraged to bring lunch. We will have a sampling of our traditional recipes during this time. \n\nAges: 5 and up\nCost: $15.00 per person\nWhen: 10:00a – 1:00p
URL:https://quietvalley.org/event/christmas-on-the-farm-2/
LOCATION:Quiet Valley Living Historical Farm\, 347 Quiet Valley Rd\, Stroudsburg\, PA\, 18360\, United States
CATEGORIES:Homeschool Heritage Program,Learning,Workshops
ATTACH;FMTTYPE=image/jpeg:https://quietvalley.org/wp-content/uploads/2023/11/Baking-in-the-Victorian-skit-2110-scaled.jpg
END:VEVENT
END:VCALENDAR